BEGIN:VCALENDAR
VERSION:2.0
PRODID:-//ChamberMaster//Event Calendar 2.0//EN
METHOD:PUBLISH
X-PUBLISHED-TTL:P3D
REFRESH-INTERVAL:P3D
CALSCALE:GREGORIAN
BEGIN:VEVENT
DTSTART:20260314T223000Z
DTEND:20260315T013000Z
X-MICROSOFT-CDO-ALLDAYEVENT:FALSE
SUMMARY:Movie Night
DESCRIPTION:Looking for somewhere to take the whole family? Perfect we are hosting a FREE event for the whole neighborhood! We're presenting the movie "King of Kings" by renowned writer Charles Dickens.\n\n\n\nWe will be serving Popcorn\, HOMEMADE Pizza\, and Drinks! Bring the whole family! All is FREE:)
X-ALT-DESC;FMTTYPE=text/html:<br />\n<span style="font-size:20px\;"><span background-color:="" segoe="" style="color: rgb(8\, 8\, 9)\; font-family: " ui="">Looking for somewhere to take the whole family? Perfect we are hosting a FREE event for the whole neighborhood! We&#39\;re presenting the movie &quot\;King of Kings&quot\; by renowned writer Charles Dickens.<br />\n<br />\nWe will be serving Popcorn\, HOMEMADE Pizza\, and Drinks! Bring the whole family! All is FREE:)</span></span>
LOCATION:LifeLink Church GP 2600 New Hope Rd
UID:e.1818.59055
SEQUENCE:3
DTSTAMP:20260423T073143Z
URL:https://business.grantspasschamber.org/events/details/movie-night-59055
END:VEVENT

END:VCALENDAR
