BEGIN:VCALENDAR
VERSION:2.0
PRODID:-//ChamberMaster//Event Calendar 2.0//EN
METHOD:PUBLISH
X-PUBLISHED-TTL:P3D
REFRESH-INTERVAL:P3D
CALSCALE:GREGORIAN
BEGIN:VEVENT
DTSTART;VALUE=DATE:20160826
DTEND;VALUE=DATE:20160827
TRANSP:TRANSPARENT
X-MICROSOFT-CDO-ALLDAYEVENT:TRUE
SUMMARY:Movies in the Park ~ ''Norm of the North''
DESCRIPTION:An outdoor film series continues at City of Grants Pass Parks\n\nThis weeks movie selection ~ "Norm of the North"
X-ALT-DESC;FMTTYPE=text/html:<strong>An outdoor film series continues at City of Grants Pass Parks<br />\n<u>This weeks movie selection</u> ~ &quot\;Norm of the North&quot\;</strong>
LOCATION:Riverside Park
UID:e.1818.15292
SEQUENCE:3
DTSTAMP:20260425T192913Z
URL:https://business.grantspasschamber.org/events/details/movies-in-the-park-norm-of-the-north-08-26-2016-15292
END:VEVENT

END:VCALENDAR
