BEGIN:VCALENDAR
VERSION:2.0
PRODID:-//ChamberMaster//Event Calendar 2.0//EN
METHOD:PUBLISH
X-PUBLISHED-TTL:P3D
REFRESH-INTERVAL:P3D
CALSCALE:GREGORIAN
BEGIN:VEVENT
DTSTART:20240315T023000Z
DTEND:20240315T033000Z
X-MICROSOFT-CDO-ALLDAYEVENT:FALSE
SUMMARY:MUSIX Concert - "Winter Jam"
DESCRIPTION:The SOU Music program presents "Winter Jam" featuring the SOU house band - MUSIX\, on March 14 at 7:30pm - at the SOU Music Recital Hall.\n\n\n\nFree livestream: https://youtube.com/live/Zx-Vzrr5cbU?feature=share\n\n\n\nPROGRAM "Thinking Out Loud" by Eric Sohnrey\, SunRose Winslow\, and Oliver Maude "Journey" by Grace Curry\, James Frederick\, and Andrew Duncan "Angels on a Pinhead" by Patrick Manville\, Allen Green\, and SunRose Winslow "30K Miles" by JT Taylorson "Manic" by JT Taylorson\, Asher Astrum\, Annika Eibner\, KT Wirth\, Sam Plax\, and Miles Lewis "Popcorn Ceiling" by Patrick Manville and SunRose Winslow "Zombie In My basement" by Lucas Smith and Lio MacLean "Innocence" by Malekai Ren Pola "Reset" by Joe Smith "Hit the Road" by Cale Buck and Garrett Laube "Blank Page"by Annika Eibner and Kyle Rife "Una Promesa" by Rui Gutierrez and Malekai Ren Pola "Lacuna Inc." by Annabelle Barbazette "Twizzlers" by KT Wirth and Karson McCoy "Attention" by Karson McCoy "It Doesn't Matter" by Katie Joos and Eric Sohnrey "Alone"by Annika Eibner and Kyle Rife "Web" by JT Taylorson\, KT Wirth\, and Jeff Savage "Selfish" by Malekai Ren Pola "Asphalt Sea" by Cameron Kolpak\, Oliver Maude\, and Jeff Savage "Father's Ballad"by Tirzah Swift "Catboy Anthem" by JT Taylorson\, Cyrus Daniels\, Jacob Bernstein\, and KT Wirth\n\n\n\nMUSIX is directed by Dr. Derek Keller. All concerts include repertoire composed and performed by SOU students in the Music Industry & Production Studies program. \n\n\n\nTickets are $15/general public\, $10/seniors\, free for SOU students\, faculty\, and staff. Accommodations available! Accessible seating and listening devices are available upon request. Please inquire at the OCA Box Office to reserve.
X-ALT-DESC;FMTTYPE=text/html:<br />\n<span style="font-size:20px\;">The SOU Music program presents &quot\;Winter Jam&quot\; featuring the SOU house band - MUSIX\, on March 14 at 7:30pm - at the SOU Music Recital Hall.<br />\n<br />\nFree livestream: <a href="https://youtube.com/live/Zx-Vzrr5cbU?feature=share">https://youtube.com/live/Zx-Vzrr5cbU?feature=share</a><br />\n<br />\nPROGRAM &quot\;Thinking Out Loud&quot\; by Eric Sohnrey\, SunRose Winslow\, and Oliver Maude &quot\;Journey&quot\; by Grace Curry\, James Frederick\, and Andrew Duncan &quot\;Angels on a Pinhead&quot\; by Patrick Manville\, Allen Green\, and SunRose Winslow &quot\;30K Miles&quot\; by JT Taylorson &quot\;Manic&quot\; by JT Taylorson\, Asher Astrum\, Annika Eibner\, KT Wirth\, Sam Plax\, and Miles Lewis &quot\;Popcorn Ceiling&quot\; by Patrick Manville and SunRose Winslow &quot\;Zombie In My basement&quot\; by Lucas Smith and Lio MacLean &quot\;Innocence&quot\; by Malekai Ren Pola &quot\;Reset&quot\; by Joe Smith &quot\;Hit the Road&quot\; by Cale Buck and Garrett Laube &quot\;Blank Page&quot\;by Annika Eibner and Kyle Rife &quot\;Una Promesa&quot\; by Rui Gutierrez and Malekai Ren Pola &quot\;Lacuna Inc.&quot\; by Annabelle Barbazette &quot\;Twizzlers&quot\; by KT Wirth and Karson McCoy &quot\;Attention&quot\; by Karson McCoy &quot\;It Doesn&#39\;t Matter&quot\; by Katie Joos and Eric Sohnrey &quot\;Alone&quot\;by Annika Eibner and Kyle Rife &quot\;Web&quot\; by JT Taylorson\, KT Wirth\, and Jeff Savage &quot\;Selfish&quot\; by Malekai Ren Pola &quot\;Asphalt Sea&quot\; by Cameron Kolpak\, Oliver Maude\, and Jeff Savage &quot\;Father&#39\;s Ballad&quot\;by Tirzah Swift &quot\;Catboy Anthem&quot\; by JT Taylorson\, Cyrus Daniels\, Jacob Bernstein\, and KT Wirth<br />\n<br />\nMUSIX is directed by Dr. Derek Keller. All concerts include repertoire composed and performed by SOU students in the Music Industry &amp\; Production Studies program. </span><br />\n<br />\n<span style="color: rgb(51\, 51\, 51)\; font-family: sans-serif\, Arial\, Verdana\, &quot\;Trebuchet MS&quot\;\; font-size: 20px\; background-color: rgb(255\, 255\, 255)\;">Tickets are $15/general public\, $10/seniors\, free for SOU students\, faculty\, and staff.&nbsp\;</span><span style="font-size:20px\;">Accommodations available! Accessible seating and listening devices are available upon request. Please inquire at the OCA Box Office to reserve.</span>
LOCATION:SOU Music Recital Hall 450 S Mountain Ave Ashland\, OR 97520
UID:e.1818.48805
SEQUENCE:3
DTSTAMP:20260420T142951Z
URL:https://business.grantspasschamber.org/events/details/musix-concert-winter-jam-48805
END:VEVENT

END:VCALENDAR
