BEGIN:VCALENDAR
VERSION:2.0
PRODID:-//ChamberMaster//Event Calendar 2.0//EN
METHOD:PUBLISH
X-PUBLISHED-TTL:P3D
REFRESH-INTERVAL:P3D
CALSCALE:GREGORIAN
BEGIN:VEVENT
DTSTART:20160505T190000Z
DTEND:20160505T200000Z
X-MICROSOFT-CDO-ALLDAYEVENT:FALSE
SUMMARY:National Day of Prayer ~ Awake America
DESCRIPTION:Meet at the Josephine County Courthouse from Noon to 1:00pm for a National Day of Prayer.\n\n\n\nA Unified call to Prayer
X-ALT-DESC;FMTTYPE=text/html:<strong>Meet at the Josephine County Courthouse from Noon to 1:00pm for a National Day of Prayer.<br />\n<br />\nA Unified call to Prayer</strong>
LOCATION:Josephine County Courthouse 500 NE 6th Street
UID:e.1818.17206
SEQUENCE:3
DTSTAMP:20260426T000330Z
URL:https://business.grantspasschamber.org/events/details/national-day-of-prayer-awake-america-05-05-2016-17206
END:VEVENT

END:VCALENDAR
