BEGIN:VCALENDAR
VERSION:2.0
PRODID:-//ChamberMaster//Event Calendar 2.0//EN
METHOD:PUBLISH
X-PUBLISHED-TTL:P3D
REFRESH-INTERVAL:P3D
CALSCALE:GREGORIAN
BEGIN:VEVENT
DTSTART:20161029T180000Z
DTEND:20161029T220000Z
X-MICROSOFT-CDO-ALLDAYEVENT:FALSE
SUMMARY:New Hope Christian School Harvest Festival
DESCRIPTION:New Hope Christian School 2016 Harvest Festival\n\nOctober 29\, 2016 11:00 am-3:00 pm\n\n\n\nNew Hope Christian School 5961 New Hope Road Grants Pass\,\n\n(541) 476-4588 Carnival Games\, Food\, Family Fun & Fellowship.\n\n\n\nAll ages welcome. No charge!
X-ALT-DESC;FMTTYPE=text/html:<strong>New Hope Christian School 2016 Harvest Festival<br />\nOctober 29\, 2016 11:00 am-3:00 pm<br />\n<br />\nNew Hope Christian School 5961 New Hope Road Grants Pass\,<br />\n(541) 476-4588 Carnival Games\, Food\, Family Fun &amp\; Fellowship.<br />\n<br />\nAll ages welcome. No charge!</strong>
LOCATION:New Hope Christian School 5961 New Hope Road Grants Pass\, OR 97527
UID:e.1818.17904
SEQUENCE:3
DTSTAMP:20260425T163511Z
URL:https://business.grantspasschamber.org/events/details/new-hope-christian-school-harvest-festival-17904
END:VEVENT

END:VCALENDAR
