BEGIN:VCALENDAR
VERSION:2.0
PRODID:-//ChamberMaster//Event Calendar 2.0//EN
METHOD:PUBLISH
X-PUBLISHED-TTL:P3D
REFRESH-INTERVAL:P3D
CALSCALE:GREGORIAN
BEGIN:VEVENT
DTSTART;VALUE=DATE:20250101
DTEND;VALUE=DATE:20250102
TRANSP:TRANSPARENT
X-MICROSOFT-CDO-ALLDAYEVENT:TRUE
SUMMARY:NO GREETERS
DESCRIPTION:NO GREETERS!\n\n\n\nHappy New Year!
X-ALT-DESC;FMTTYPE=text/html:<span style="font-size:26px\;"><span style="color:#FF0000\;"><strong>NO GREETERS!</strong></span><br />\n<br />\nHappy New Year!</span>
LOCATION:
UID:e.1818.53035
SEQUENCE:3
DTSTAMP:20260419T184742Z
URL:https://business.grantspasschamber.org/events/details/no-greeters-53035
END:VEVENT

END:VCALENDAR
