BEGIN:VCALENDAR
VERSION:2.0
PRODID:-//ChamberMaster//Event Calendar 2.0//EN
METHOD:PUBLISH
X-PUBLISHED-TTL:P3D
REFRESH-INTERVAL:P3D
CALSCALE:GREGORIAN
BEGIN:VEVENT
DTSTART:20250513T200000Z
DTEND:20250513T213000Z
X-MICROSOFT-CDO-ALLDAYEVENT:FALSE
SUMMARY:Nonprofit Board Roles and Responsibilities
DESCRIPTION:A strong and effective board of directors is crucial for the success and sustainability of any nonprofit organization. This workshop provides essential guidance on developing a committed and supportive board. Learn how to induct new board members successfully\, define clear roles\, and understand both collective and individual fiduciary responsibilities. We will also cover key questions potential board members should ask before joining and the time commitments involved.\n\n\n\n\n\nWhat You'll Learn:\n\n	Inducting New Members: Best practices for successfully inducting and onboarding new board members.\n	Defining Roles: How to define and assign roles and responsibilities within the board.\n	Fiduciary Responsibilities: Understanding the collective and individual fiduciary duties of board members.\n	Board Member Commitment: Key questions to ask before joining a board and understanding the time commitment required.\n\nCheryl Smith brings over 25 years of experience to the nonprofit sector. As the CEO of Dewlyn Nonprofit Services\, she assists more than 3\,000 nonprofit leaders each year\, helping them build sustainable organizations through her extensive training\, coaching\, and grant-writing expertise. Cheryl is the author of "21 Ways to Fund a Nonprofit\," a member of the American Grant Writers Association\, and a former Board Chair of a child welfare organization in Georgia. In addition\, her commitment to social impact extends nationwide as a nonprofit volunteer trainer for SCORE\, as well as a public speaker for various private sector groups. Cheryl's core expertise lies in establishing and strengthening organizational capacity for small nonprofit organizations\, and her chief aim is to help nonprofit leaders actualize their missions and achieve their greatest potential.
X-ALT-DESC;FMTTYPE=text/html:<span style="font-size:20px\;">A strong and effective board of directors is crucial for the success and sustainability of any nonprofit organization. This workshop provides essential guidance on developing a committed and supportive board. Learn how to induct new board members successfully\, define clear roles\, and understand both collective and individual fiduciary responsibilities. We will also cover key questions potential board members should ask before joining and the time commitments involved.<br />\n<br />\n<br />\nWhat You&rsquo\;ll Learn:</span>\n<ul>\n	<li><span style="font-size:20px\;">Inducting New Members: Best practices for successfully inducting and onboarding new board members.</span></li>\n	<li><span style="font-size:20px\;">Defining Roles: How to define and assign roles and responsibilities within the board.</span></li>\n	<li><span style="font-size:20px\;">Fiduciary Responsibilities: Understanding the collective and individual fiduciary duties of board members.</span></li>\n	<li><span style="font-size:20px\;">Board Member Commitment: Key questions to ask before joining a board and understanding the time commitment required.</span></li>\n</ul>\n<span style="font-size:20px\;">Cheryl Smith brings over 25 years of experience to the nonprofit sector. As the CEO of Dewlyn Nonprofit Services\, she assists more than 3\,000 nonprofit leaders each year\, helping them build sustainable organizations through her extensive training\, coaching\, and grant-writing expertise. Cheryl is the author of &ldquo\;21 Ways to Fund a Nonprofit\,&rdquo\; a member of the American Grant Writers Association\, and a former Board Chair of a child welfare organization in Georgia. In addition\, her commitment to social impact extends nationwide as a nonprofit volunteer trainer for SCORE\, as well as a public speaker for various private sector groups. Cheryl&#39\;s core expertise lies in establishing and strengthening organizational capacity for small nonprofit organizations\, and her chief aim is to help nonprofit leaders actualize their missions and achieve their greatest potential.</span>
LOCATION:Workshop Link
UID:e.1818.54644
SEQUENCE:3
DTSTAMP:20260419T114949Z
URL:https://business.grantspasschamber.org/events/details/nonprofit-board-roles-and-responsibilities-54644
END:VEVENT

END:VCALENDAR
