BEGIN:VCALENDAR
VERSION:2.0
PRODID:-//ChamberMaster//Event Calendar 2.0//EN
METHOD:PUBLISH
X-PUBLISHED-TTL:P3D
REFRESH-INTERVAL:P3D
CALSCALE:GREGORIAN
BEGIN:VEVENT
DTSTART;VALUE=DATE:20160608
DTEND;VALUE=DATE:20160609
TRANSP:TRANSPARENT
X-MICROSOFT-CDO-ALLDAYEVENT:TRUE
SUMMARY:North Valley High School Graduation
DESCRIPTION:North Valley High School Graduation
X-ALT-DESC;FMTTYPE=text/html:<strong>North Valley High School Graduation</strong>
LOCATION:6741 Monument Drive Grants Pass
UID:e.1818.17552
SEQUENCE:3
DTSTAMP:20260425T223758Z
URL:https://business.grantspasschamber.org/events/details/north-valley-high-school-graduation-06-08-2016-17552
END:VEVENT

END:VCALENDAR
