BEGIN:VCALENDAR
VERSION:2.0
PRODID:-//ChamberMaster//Event Calendar 2.0//EN
METHOD:PUBLISH
X-PUBLISHED-TTL:P3D
REFRESH-INTERVAL:P3D
CALSCALE:GREGORIAN
BEGIN:VEVENT
DTSTART;VALUE=DATE:20161105
DTEND;VALUE=DATE:20161106
TRANSP:TRANSPARENT
X-MICROSOFT-CDO-ALLDAYEVENT:TRUE
SUMMARY:NWAPA Marching Band Championships
DESCRIPTION:Hillboro Stadium\, come and support the Grants Pass Marching Band and Guard at Championships!!!
X-ALT-DESC;FMTTYPE=text/html:<strong>Hillboro Stadium\, come and support the Grants Pass Marching Band and Guard at Championships!!!</strong>
LOCATION:Hillsboro Stadium
UID:e.1818.17962
SEQUENCE:3
DTSTAMP:20260425T144844Z
URL:https://business.grantspasschamber.org/events/details/nwapa-marching-band-championships-17962
END:VEVENT

END:VCALENDAR
