BEGIN:VCALENDAR
VERSION:2.0
PRODID:-//ChamberMaster//Event Calendar 2.0//EN
METHOD:PUBLISH
X-PUBLISHED-TTL:P3D
REFRESH-INTERVAL:P3D
CALSCALE:GREGORIAN
BEGIN:VEVENT
DTSTART;VALUE=DATE:20160604
DTEND;VALUE=DATE:20160605
TRANSP:TRANSPARENT
X-MICROSOFT-CDO-ALLDAYEVENT:TRUE
SUMMARY:OHA Youth Outdoor Day
DESCRIPTION:Our youth program is an event for youth to have hands on experience with many outdoor sporting events. This event is sponsored by OHA ~ Oregon Hunters Association\n\n\n\nThis year we have a climbing wall\,fishing\, archery\, Trap & Skeet\, bird house building\, muzzle loading\, tent races\, door prizes and much more shooting sport activities.\n\n\n\nThere will also be informational booths about other outdoor activities. Come join us for a day of discovering various outdoor activities.
X-ALT-DESC;FMTTYPE=text/html:<strong>Our youth program is an event for youth to have hands on experience with many outdoor sporting events. This event is sponsored by OHA ~ Oregon Hunters Association<br />\n<br />\nThis year we have a climbing wall\,fishing\, archery\, Trap &amp\; Skeet\, bird house building\, muzzle loading\, tent races\, door prizes and much more shooting sport activities.<br />\n<br />\nThere will also be informational booths about other outdoor activities. Come join us for a day of discovering various outdoor activities.</strong>
LOCATION:JCSA Sportsman's Park Gun Range (Merlin\, Or.)
UID:e.1818.17474
SEQUENCE:3
DTSTAMP:20260425T223856Z
URL:https://business.grantspasschamber.org/events/details/oha-youth-outdoor-day-06-04-2016-17474
END:VEVENT

END:VCALENDAR
