BEGIN:VCALENDAR
VERSION:2.0
PRODID:-//ChamberMaster//Event Calendar 2.0//EN
METHOD:PUBLISH
X-PUBLISHED-TTL:P3D
REFRESH-INTERVAL:P3D
CALSCALE:GREGORIAN
BEGIN:VEVENT
DTSTART:20211001T233000Z
DTEND:20211002T020000Z
X-MICROSOFT-CDO-ALLDAYEVENT:FALSE
SUMMARY:Oktoberfest Dinner
DESCRIPTION:American Legion Post 28 Grants Pass is having an Oktoberfest Dinner on the 1st Friday!\n\n\n\nWe will be serving Jaeger Schnitzel\, Brats\, Red Cabbage\, German Potato Salad\, Carrot Salad and German Chocolate Cake.\n\n\n\nJoin us on Friday\, October 1st\, from 4:30pm-7pm. Due to social distancing must have timed reservations. Please RSVP by calling 541-474-6400 Monday-Saturday 2:00pm-6:00pm to reserve. $15 per plate (to go add $1). Please no credit and debt cards. The Post is located at 206 NW F Street\, Grants Pass.\n\n\n\nProceeds go to the American Legion Veteran Programs
X-ALT-DESC;FMTTYPE=text/html:<span style="font-size:20px\;"><strong>American Legion Post 28 Grants Pass is having an Oktoberfest Dinner on the 1st Friday!</strong><br />\n<br />\nWe will be serving Jaeger Schnitzel\, Brats\, Red Cabbage\, German Potato Salad\, Carrot Salad and German Chocolate Cake.<br />\n<br />\nJoin us on Friday\, October 1st\, from 4:30pm-7pm. Due to social distancing must have timed reservations. Please RSVP by calling 541-474-6400 Monday-Saturday 2:00pm-6:00pm to reserve. $15 per plate (to go add $1). Please no credit and debt cards. The Post is located at 206 NW F Street\, Grants Pass.<br />\n<br />\nProceeds go to the American Legion Veteran Programs</span>
LOCATION:American Legion Post 28 206 NW F St @ 5th St
UID:e.1818.37815
SEQUENCE:3
DTSTAMP:20260421T074711Z
URL:https://business.grantspasschamber.org/events/details/oktoberfest-dinner-10-01-2021-37815
END:VEVENT

END:VCALENDAR
