BEGIN:VCALENDAR
VERSION:2.0
PRODID:-//ChamberMaster//Event Calendar 2.0//EN
METHOD:PUBLISH
X-PUBLISHED-TTL:P3D
REFRESH-INTERVAL:P3D
CALSCALE:GREGORIAN
BEGIN:VEVENT
DTSTART;VALUE=DATE:20161007
DTEND;VALUE=DATE:20161008
TRANSP:TRANSPARENT
X-MICROSOFT-CDO-ALLDAYEVENT:TRUE
SUMMARY:Oktoberfest Social and Fundraiser
DESCRIPTION:Oktoberfest Social and Fundraiser is sponsored by the Rotary Club of Illinois Valley.
X-ALT-DESC;FMTTYPE=text/html:<strong>Oktoberfest Social and Fundraiser is sponsored by the Rotary Club of Illinois Valley.</strong>
LOCATION:Wild River Brewing and Pizza - Cave Junction
UID:e.1818.15508
SEQUENCE:3
DTSTAMP:20260425T163442Z
URL:https://business.grantspasschamber.org/events/details/oktoberfest-social-and-fundraiser-10-07-2016-15508
END:VEVENT

END:VCALENDAR
