BEGIN:VCALENDAR
VERSION:2.0
PRODID:-//ChamberMaster//Event Calendar 2.0//EN
METHOD:PUBLISH
X-PUBLISHED-TTL:P3D
REFRESH-INTERVAL:P3D
CALSCALE:GREGORIAN
BEGIN:VEVENT
DTSTART:20180225T220000Z
DTEND:20180226T020000Z
X-MICROSOFT-CDO-ALLDAYEVENT:FALSE
SUMMARY:Old Time Radio Players
DESCRIPTION:Radio show comedy skit\, musical numbers\, & refreshments.\n\nCome enjoy "Valentine Candy\," "Bickerson's Tax Refund" & More!\n\n\n\nFriday (7:00 PM)\, Saturday (7:00 PM)\n\n& Matinee on Sunday (2:00 PM)\n\n\n\nJosephine County Fairgrounds Flower Building
X-ALT-DESC;FMTTYPE=text/html:<p><strong>Radio show comedy skit\, musical numbers\, &amp\; refreshments.<br />\nCome enjoy &quot\;Valentine Candy\,&quot\;&nbsp\;&quot\;Bickerson&#39\;s Tax Refund&quot\; &amp\; More!<br />\n<br />\nFriday (7:00 PM)\, Saturday (7:00 PM)<br />\n&amp\; Matinee on Sunday (2:00 PM)<br />\n<br />\nJosephine County Fairgrounds Flower Building</strong></p>\n
LOCATION:Josephine County Fairgrounds Flower Building 1451 Fairgrounds Rd Grants Pass\, OR
UID:e.1818.25125
SEQUENCE:3
DTSTAMP:20260424T092603Z
URL:https://business.grantspasschamber.org/events/details/old-time-radio-players-25125
END:VEVENT

END:VCALENDAR
