BEGIN:VCALENDAR
VERSION:2.0
PRODID:-//ChamberMaster//Event Calendar 2.0//EN
METHOD:PUBLISH
X-PUBLISHED-TTL:P3D
REFRESH-INTERVAL:P3D
CALSCALE:GREGORIAN
BEGIN:VEVENT
DTSTART;VALUE=DATE:20180608
DTEND;VALUE=DATE:20180611
TRANSP:TRANSPARENT
X-MICROSOFT-CDO-ALLDAYEVENT:TRUE
SUMMARY:Old Time Radio Players
DESCRIPTION:Radio show comedy skit\, musical numbers\, & refreshments.\n\n\n\nFriday (7:00 PM)\,\n\nSaturday Matinee (2:00 PM) & Matinee on Sunday (2:00 PM)\n\n\n\nJosephine County Fairgrounds Flower Building\n\n \n\nCall 541-659-7723 for\n\nReservations for $12 pp\n\nAt the Door: $14\n\nGroup Reservations of 8 or more:\n\n-- $10 per person\n\n \n\nJosephine County Fairgrounds & Event Center\n\nFloral building\n\nCall 541-659-7723 for\n\nReservations for $12 pp\n\n\n\nAt the Door: $14\n\n\n\nGroup Reservations of 8 or more:\n\n-- $10 per person
X-ALT-DESC;FMTTYPE=text/html:<p><strong><span style="font-size:18px\;">Radio show comedy skit\, musical numbers\, &amp\; refreshments.</span><br />\n<br />\nFriday (7:00 PM)\,<br />\nSaturday Matinee (2:00 PM) &amp\; Matinee on Sunday (2:00 PM)<br />\n<br />\nJosephine County Fairgrounds Flower Building</strong><br />\n&nbsp\;</p>\n\n<div span="" style="font-size: 14pt\;">Call 541-659-7723 for<br />\n<strong>Reservations for $12 pp</strong><br />\n<strong>At the Door: $14</strong><br />\n<strong>Group Reservations of 8 or more:</strong><br />\n-- $10 per person</div>\n\n<div style="color: rgb(49\, 49\, 49)\; font-family: FiraSans-Regular\, Arial\, Verdana\, sans-serif\; font-size: 12px\; background-color: rgba(212\, 223\, 231\, 0.9)\;">&nbsp\;</div>\n\n<p><strong style="color: rgb(49\, 49\, 49)\; font-family: FiraSans-Regular\, Arial\, Verdana\, sans-serif\; font-size: 12px\; background-color: rgba(212\, 223\, 231\, 0.9)\;">Josephine County Fairgrounds &amp\; Event Center<br />\nFloral building</strong><br />\n<strong><span style="color:#FF0000\;">Call 541-659-7723 for<br />\nReservations for $12 pp</span><br />\n<br />\nAt the Door: $14<br />\n<br />\n<u>Group Reservations of 8 or more</u>:<br />\n-- $10 per person</strong></p>\n
LOCATION:Josephine County Fairgrounds Flower Building 1451 Fairgrounds Rd Grants Pass\, OR
UID:e.1818.25129
SEQUENCE:3
DTSTAMP:20260424T012323Z
URL:https://business.grantspasschamber.org/events/details/old-time-radio-players-25129
END:VEVENT

END:VCALENDAR
