BEGIN:VCALENDAR
VERSION:2.0
PRODID:-//ChamberMaster//Event Calendar 2.0//EN
METHOD:PUBLISH
X-PUBLISHED-TTL:P3D
REFRESH-INTERVAL:P3D
CALSCALE:GREGORIAN
BEGIN:VEVENT
DTSTART:20160423T020000Z
DTEND:20160424T210000Z
X-MICROSOFT-CDO-ALLDAYEVENT:FALSE
SUMMARY:Old Time Radio Players April 2016
DESCRIPTION:An evening of comedy presented by the Old Time Radio Players. Skits from Fibber McGee & Molly and Baby Snooks\, plus songs\, dancing\, and refreshments.
X-ALT-DESC;FMTTYPE=text/html:<strong>An evening of comedy presented by the Old Time Radio Players. Skits from Fibber McGee &amp\; Molly and Baby Snooks\, plus songs\, dancing\, and refreshments.</strong>
LOCATION:Grants Pass Community Center 4th & L G.P.
UID:e.1818.16879
SEQUENCE:3
DTSTAMP:20260426T013646Z
URL:https://business.grantspasschamber.org/events/details/old-time-radio-players-april-2016-16879
END:VEVENT

END:VCALENDAR
