BEGIN:VCALENDAR
VERSION:2.0
PRODID:-//ChamberMaster//Event Calendar 2.0//EN
METHOD:PUBLISH
X-PUBLISHED-TTL:P3D
REFRESH-INTERVAL:P3D
CALSCALE:GREGORIAN
BEGIN:VEVENT
DTSTART:20160813T020000Z
DTEND:20160814T230000Z
X-MICROSOFT-CDO-ALLDAYEVENT:FALSE
SUMMARY:Old Time Radio Players Aug 2016
DESCRIPTION:Radio show "The Whistler" plus comedy skit\, musical numbers\, & refreshments.
X-ALT-DESC;FMTTYPE=text/html:<strong>Radio show &quot\;The Whistler&quot\; plus comedy skit\, musical numbers\, &amp\; refreshments.</strong>
LOCATION:G.P. Community Center 4th & L
UID:e.1818.17674
SEQUENCE:3
DTSTAMP:20260425T192514Z
URL:https://business.grantspasschamber.org/events/details/old-time-radio-players-aug-2016-17674
END:VEVENT

END:VCALENDAR
