BEGIN:VCALENDAR
VERSION:2.0
PRODID:-//ChamberMaster//Event Calendar 2.0//EN
METHOD:PUBLISH
X-PUBLISHED-TTL:P3D
REFRESH-INTERVAL:P3D
CALSCALE:GREGORIAN
BEGIN:VEVENT
DTSTART:20190112T190000Z
DTEND:20190112T220000Z
X-MICROSOFT-CDO-ALLDAYEVENT:FALSE
SUMMARY:Open House
DESCRIPTION:My name is Mona Pinon\, I am a real estate broker with Home Quest Realty. I will be hosting an open house at 511 Berry Ln this Saturday\, January 12th from 11am-2pm.\n\n\n\nCome join me for some cookies and coffee:)\n\n\n\nIf you can't make it during that time\, please call 541-450-1360 to schedule a tour.
X-ALT-DESC;FMTTYPE=text/html:<strong>My name is Mona Pinon\, I am a real estate broker with Home Quest Realty. I will be hosting an open house at 511 Berry Ln this <u>Saturday\, January 12th from 11am-2pm.</u><br />\n<br />\nCome join me for some cookies and coffee:)<br />\n<br />\nIf you can&#39\;t make it during that time\, please call 541-450-1360 to schedule a tour.</strong>
LOCATION:511 Berry Ln
UID:e.1818.30393
SEQUENCE:3
DTSTAMP:20260424T112805Z
URL:https://business.grantspasschamber.org/events/details/open-house-01-12-2019-30393
END:VEVENT

END:VCALENDAR
