BEGIN:VCALENDAR
VERSION:2.0
PRODID:-//ChamberMaster//Event Calendar 2.0//EN
METHOD:PUBLISH
X-PUBLISHED-TTL:P3D
REFRESH-INTERVAL:P3D
CALSCALE:GREGORIAN
BEGIN:VEVENT
DTSTART:20190428T190000Z
DTEND:20190428T220000Z
X-MICROSOFT-CDO-ALLDAYEVENT:FALSE
SUMMARY:Open House
DESCRIPTION:This home is located in Cave Junction in a very nice neighborhood. Built in 2005\, it has 3 bedrooms\, 2 full bathrooms\, 1728 sq ft.\, a 21x22 finished studio/shop/guest qtrs with a half bath. Property is fenced for pets and/or kids. Very well maintained. Priced at $260\,000\, it's ready for new buyer. Come by to view it at 280 Mountain Valley Way\, Cave Junction. MLS #2999797.
X-ALT-DESC;FMTTYPE=text/html:<br />\n<span style="font-size:16px\;">This home is located in Cave Junction in a very nice neighborhood. Built in 2005\, it has 3 bedrooms\, 2 full bathrooms\, 1728 sq ft.\, a 21x22 finished studio/shop/guest qtrs with a half bath. Property is fenced for pets and/or kids. Very well maintained. Priced at $260\,000\, it&#39\;s ready for new buyer. Come by to view it at 280 Mountain Valley Way\, Cave Junction. MLS #2999797.</span>
LOCATION:280 Mountain Valley Way Cave Junction
UID:e.1818.31388
SEQUENCE:3
DTSTAMP:20260424T025410Z
URL:https://business.grantspasschamber.org/events/details/open-house-04-28-2019-31388
END:VEVENT

END:VCALENDAR
