BEGIN:VCALENDAR
VERSION:2.0
PRODID:-//ChamberMaster//Event Calendar 2.0//EN
METHOD:PUBLISH
X-PUBLISHED-TTL:P3D
REFRESH-INTERVAL:P3D
CALSCALE:GREGORIAN
BEGIN:VEVENT
DTSTART:20260425T180000Z
DTEND:20260425T210000Z
X-MICROSOFT-CDO-ALLDAYEVENT:FALSE
SUMMARY:OPEN HOUSE - BBQ
DESCRIPTION:Don Teague hosting an Open House BBQ at this 3 bed\, 2 bath\, on 5 acres of thoughtfully conceived and constructed country living space.\n\n\n\nThis property boasts 5 well-manicured acres with multiple outbuildings\, greenhouse and sheds. Property comes with a 2017 Kioti utility tractor with front loader\, drag box and backhoe. Underground electrical and automated irrigation. Main house is a newer\, cute and tidy open floor plan 1080 sqft bult in 2017. The detached Art studio has power\, water\, drains to septic\, heating and air-conditioning. Property boasts a 14 GPM well at time of drilling. Multiple fenced.\, agricultural areas planted for berries\, fruit trees\, vegetables\, chicken coops and a special fenced off outdoor BBQ dining area\, surrounded by roses in raised planters. Multiple RV parking spots\, some with power\, water and septic. So many thoughtful details. Must be seen to believe. Professional photos coming soon.
X-ALT-DESC;FMTTYPE=text/html:<span style="font-size:20px\;">Don Teague hosting an Open House BBQ at this 3 bed\, 2 bath\, on 5 acres of thoughtfully conceived and constructed country living space.<br />\n<br />\nThis property boasts 5 well-manicured acres with multiple outbuildings\, greenhouse and sheds. Property comes with a 2017 Kioti utility tractor with front loader\, drag box and backhoe. Underground electrical and automated irrigation. Main house is a newer\, cute and tidy open floor plan 1080 sqft bult in 2017. The detached Art studio has power\, water\, drains to septic\, heating and air-conditioning. Property boasts a 14 GPM well at time of drilling. Multiple fenced.\, agricultural areas planted for berries\, fruit trees\, vegetables\, chicken coops and a special fenced off outdoor BBQ dining area\, surrounded by roses in raised planters. Multiple RV parking spots\, some with power\, water and septic. So many thoughtful details. Must be seen to believe. Professional photos coming soon.</span>
LOCATION:395 S Livington Way Grants Pass\, OR 97526
UID:e.1818.59577
SEQUENCE:3
DTSTAMP:20260423T055146Z
URL:https://business.grantspasschamber.org/events/details/open-house-bbq-59577
END:VEVENT

END:VCALENDAR
