BEGIN:VCALENDAR
VERSION:2.0
PRODID:-//ChamberMaster//Event Calendar 2.0//EN
METHOD:PUBLISH
X-PUBLISHED-TTL:P3D
REFRESH-INTERVAL:P3D
CALSCALE:GREGORIAN
BEGIN:VEVENT
DTSTART;VALUE=DATE:20160929
DTEND;VALUE=DATE:20160930
TRANSP:TRANSPARENT
X-MICROSOFT-CDO-ALLDAYEVENT:TRUE
SUMMARY:Open House & Ribbon Cutting ~ New Teen Center
DESCRIPTION:You're Invited to Ribbon Cutting & Open House for Boy's & Girls Club New Teen Center\n\n\n\n9/29th is also Buck for Kids at Dutch Bros Coffee ! ! !
X-ALT-DESC;FMTTYPE=text/html:<strong>You&#39\;re Invited to Ribbon Cutting &amp\; Open House for Boy&#39\;s &amp\; Girls Club New Teen Center<br />\n<br />\n<u>9/29th is also Buck for Kids at Dutch Bros Coffee</u> ! ! ! </strong>
LOCATION:Boys' & Girls Club of Rogue Valley Grants Pass Teen Center 2013 SE 9th St
UID:e.1818.17831
SEQUENCE:3
DTSTAMP:20260425T181932Z
URL:https://business.grantspasschamber.org/events/details/open-house-ribbon-cutting-new-teen-center-17831
END:VEVENT

END:VCALENDAR
