BEGIN:VCALENDAR
VERSION:2.0
PRODID:-//ChamberMaster//Event Calendar 2.0//EN
METHOD:PUBLISH
X-PUBLISHED-TTL:P3D
REFRESH-INTERVAL:P3D
CALSCALE:GREGORIAN
BEGIN:VEVENT
DTSTART:20160915T210000Z
DTEND:20160915T230000Z
X-MICROSOFT-CDO-ALLDAYEVENT:FALSE
SUMMARY:Open House ~ The Bridge Community
DESCRIPTION:15 Years of Service at The Bridge.\n\nYou are invited to their Open House.  There will be tours and refreshments.\n\n\n\nPlease call and RSVP with number of guests (541) 956-2110
X-ALT-DESC;FMTTYPE=text/html:<strong><u>15 Years of Service at The Bridge</u>.<br />\nYou are invited to their Open House.&nbsp\; There will be tours and refreshments.<br />\n<br />\nPlease call and RSVP with number of guests (541) 956-2110</strong>
LOCATION:The Bridge Retirement & Assisted Living 201 SW Bridge St Grants Pass
UID:e.1818.17820
SEQUENCE:3
DTSTAMP:20260425T181204Z
URL:https://business.grantspasschamber.org/events/details/open-house-the-bridge-community-17820
END:VEVENT

END:VCALENDAR
