BEGIN:VCALENDAR
VERSION:2.0
PRODID:-//ChamberMaster//Event Calendar 2.0//EN
METHOD:PUBLISH
X-PUBLISHED-TTL:P3D
REFRESH-INTERVAL:P3D
CALSCALE:GREGORIAN
BEGIN:VEVENT
DTSTART;VALUE=DATE:20160825
DTEND;VALUE=DATE:20160826
TRANSP:TRANSPARENT
X-MICROSOFT-CDO-ALLDAYEVENT:TRUE
SUMMARY:Oregon Caves Founders Day Celebration ~ Guitarist Craig Chaquico
DESCRIPTION:Legendary Guitarist Craig Chaquico will be playing at the Oregon Caves National Monument and Preserve in honor of the National Park Service Centennial.  Craig Chaquico was an original founding member and lead guitarist/songwriter on all of the Jefferson Starship and Starship albums.\n\n\n\nMr. Chaquico will be playing at two venues in the park.  He will play in the Ghost Room of the cave and in the lobby of the Chateau.
X-ALT-DESC;FMTTYPE=text/html:<strong>Legendary Guitarist Craig Chaquico will be playing at the Oregon Caves National Monument and Preserve in honor of the National Park Service Centennial.&nbsp\; Craig Chaquico was an original founding member and lead guitarist/songwriter on all of the Jefferson Starship and Starship albums.<br />\n<br />\nMr. Chaquico will be playing at two venues in the park.&nbsp\; He will play in the Ghost Room of the cave and in the lobby of the Chateau.</strong>
LOCATION:Oregon Caves National Monument & Preserve 19000 Caves Highway Cave Junction\, OR
UID:e.1818.17677
SEQUENCE:3
DTSTAMP:20260425T192815Z
URL:https://business.grantspasschamber.org/events/details/oregon-caves-founders-day-celebration-guitarist-craig-chaquico-08-25-2016-17677
END:VEVENT

END:VCALENDAR
