BEGIN:VCALENDAR
VERSION:2.0
PRODID:-//ChamberMaster//Event Calendar 2.0//EN
METHOD:PUBLISH
X-PUBLISHED-TTL:P3D
REFRESH-INTERVAL:P3D
CALSCALE:GREGORIAN
BEGIN:VEVENT
DTSTART;VALUE=DATE:20160505
DTEND;VALUE=DATE:20160506
TRANSP:TRANSPARENT
X-MICROSOFT-CDO-ALLDAYEVENT:TRUE
SUMMARY:Oregon Caves Home House ~ Meet the Planning Team
DESCRIPTION:The National Park Service is hosting open houses in Cave Junction and Grants Pass.  You are invited to meet the planning and study team\, learn more about the process\, comment on the park's proposed actions\, and share your ideas\, concerns\, and thoughts about this special place.\n\n\n\nThe park is seeking public input in the development of a new Preserve Manage Plan.  This plan will guide resource protection and visitor experiences\, as well as a Wild and Scenic River Study for five streams in the park.
X-ALT-DESC;FMTTYPE=text/html:<strong>The National Park Service is hosting open houses in Cave Junction and Grants Pass.&nbsp\; You are invited to meet the planning and study team\, learn more about the process\, comment on the park&#39\;s proposed actions\, and share your ideas\, concerns\, and thoughts about this special place.</strong><br />\n<br />\n<strong>The park is seeking public input in the development of a new Preserve Manage Plan.&nbsp\; This plan will guide resource protection and visitor experiences\, as well as a Wild and Scenic River Study for five streams in the park.</strong>
LOCATION:Grants Pass Interagency Office\, Rogue Room 2164 NE Spalding Ave Grants Pass
UID:e.1818.17288
SEQUENCE:3
DTSTAMP:20260426T000329Z
URL:https://business.grantspasschamber.org/events/details/oregon-caves-home-house-meet-the-planning-team-05-05-2016-17288
END:VEVENT

END:VCALENDAR
