BEGIN:VCALENDAR
VERSION:2.0
PRODID:-//ChamberMaster//Event Calendar 2.0//EN
METHOD:PUBLISH
X-PUBLISHED-TTL:P3D
REFRESH-INTERVAL:P3D
CALSCALE:GREGORIAN
BEGIN:VEVENT
DTSTART;VALUE=DATE:20161013
DTEND;VALUE=DATE:20161014
TRANSP:TRANSPARENT
X-MICROSOFT-CDO-ALLDAYEVENT:TRUE
SUMMARY:Oregon Gubernatorial Debate ~ KOBI-TV / NBC
DESCRIPTION:This live Oregon Gubernatorial Debate with incumbent Kate Brown (D) and challenger Dr. Bud Pierce (R) will be held Thursday\, October 13th from 7:00PM to 8:00PM.\n\n\n\nNews Director and Anchor for NBC5\, Craig Smullin will moderate the debate.  Panelists will be Kristin Hosfelt\, NBC5 Anchor\, Art Barron\, NBC5 Anchor\, and Patricia Smullin\, President and Owner of KOBI TV / NBC5.\n\n\n\nThe debate will air live on KOBI-TV/NBC5\, Medford\, LOTI-TV/NBC2\, Klamath Falls\, KLSR-TV/ FOX\, Eugene\, and KEVU-TV/MyTV.\n\n\n\nThe debate will be streamed live on www.kobi5.com\, and after the live airing\, the entire broadcast will be available on that same website.
X-ALT-DESC;FMTTYPE=text/html:<strong>This live Oregon Gubernatorial Debate with incumbent Kate Brown (D) and challenger Dr. Bud Pierce (R) will be held Thursday\, October 13th from 7:00PM to 8:00PM.<br />\n<br />\nNews Director and Anchor for NBC5\, Craig Smullin will moderate the debate.&nbsp\; Panelists will be Kristin Hosfelt\, NBC5 Anchor\, Art Barron\, NBC5 Anchor\, and Patricia Smullin\, President and Owner of KOBI TV / NBC5.<br />\n<br />\nThe debate will air live on KOBI-TV/NBC5\, Medford\, LOTI-TV/NBC2\, Klamath Falls\, KLSR-TV/ FOX\, Eugene\, and KEVU-TV/MyTV.<br />\n<br />\nThe debate will be streamed live on www.kobi5.com\, and after the live airing\, the entire broadcast will be available on that same website.</strong>
LOCATION:KOBI-TV/ NBC5 and KOTI-TV/ NBC 2
UID:e.1818.17889
SEQUENCE:3
DTSTAMP:20260425T163235Z
URL:https://business.grantspasschamber.org/events/details/oregon-gubernatorial-debate-kobi-tv-nbc-17889
END:VEVENT

END:VCALENDAR
