BEGIN:VCALENDAR
VERSION:2.0
PRODID:-//ChamberMaster//Event Calendar 2.0//EN
METHOD:PUBLISH
X-PUBLISHED-TTL:P3D
REFRESH-INTERVAL:P3D
CALSCALE:GREGORIAN
BEGIN:VEVENT
DTSTART:20180203T210000Z
DTEND:20180203T230000Z
X-MICROSOFT-CDO-ALLDAYEVENT:FALSE
SUMMARY:Oregon Oldtime Fiddlers
DESCRIPTION:Oregon Oldtime Fiddlers will hold a public jam on Sat.\, Feb 3\, from 1 to 3 pm at the Applegate Valley Fire District #9 training building\, located at 1095 Upper Applegate Rd.\, Ruch\, OR.\n\n\n\nAcoustic musicians may sit in and play. Family-friendly.\n\nAdmission by donation.\n\n\n\nQuestions: call Judy at 541-779-8145 or see www.ootfa4.org
X-ALT-DESC;FMTTYPE=text/html:<strong>Oregon Oldtime Fiddlers will hold a public jam on Sat.\, Feb 3\, from 1 to 3 pm at the Applegate Valley Fire District #9 training building\, located at 1095 Upper Applegate Rd.\, Ruch\, OR.</strong><br />\n<br />\n<strong>Acoustic musicians may sit in and play. Family-friendly.<br />\nAdmission by donation.<br />\n<br />\nQuestions: call Judy at 541-779-8145 or see www.ootfa4.org</strong>
LOCATION:Applegate Valley Fire District #9 Headquarters training building. 1095 Upper Applegate Rd\, Ruch\, OR
UID:e.1818.25083
SEQUENCE:3
DTSTAMP:20260424T092410Z
URL:https://business.grantspasschamber.org/events/details/oregon-oldtime-fiddlers-25083
END:VEVENT

END:VCALENDAR
