BEGIN:VCALENDAR
VERSION:2.0
PRODID:-//ChamberMaster//Event Calendar 2.0//EN
METHOD:PUBLISH
X-PUBLISHED-TTL:P3D
REFRESH-INTERVAL:P3D
CALSCALE:GREGORIAN
BEGIN:VEVENT
DTSTART;VALUE=DATE:20191202
DTEND;VALUE=DATE:20191214
TRANSP:TRANSPARENT
X-MICROSOFT-CDO-ALLDAYEVENT:TRUE
SUMMARY:Ornament Contest~ GP Chamber Members
DESCRIPTION:Chamber Member Ornament Contest\n\nThe Grants Pass & Josephine County Chamber of Commerce invites our Chamber Members to create an ornament to be displayed on the Visitor Center Christmas Tree!\n\nHow it works:\n\n\n	Create an ornament that depicts/represents your business or what your business does.\n	Ornaments may not be larger than 6 inches high\, 6 inches wide and 6 inches deep.\n	Ornaments must include your business or individual name.\n	One ornament entry per Member.\n	Ornaments will be displayed in the Visitor Center starting December 2nd\, 2019.\n	Ornaments must be received by December 13th\, 2019 by 4:00 pm. \n\n\nThis a great way to showcase your business to our many visitors as well as create holiday cheer and excitement within your business. We encourage you to get creative and have fun! The winner will receive a custom gift basket-winner to be announced on Wednesday\, December 18th at Greeters.\n\n \n\nWe look forward to seeing your submissions. For questions please call Christie Swafford (541) 226-3101 or email cswafford@grantspasschamber.org
X-ALT-DESC;FMTTYPE=text/html:<div style="text-align: center\;">\n<div style="text-align: left\;"><span style="font-size:16px\;"><span style="font-size:22px\;"><span style="color:#3399cc\;"><strong>Chamber Member Ornament Contest</strong></span></span><br />\nThe Grants Pass &amp\; Josephine County Chamber of Commerce invites our <u>Chamber Members</u> to create an ornament to be displayed on the Visitor Center Christmas Tree!<br />\n<strong><u>How it works</u>:</strong></span></div>\n\n<ul>\n	<li style="margin-bottom: 0.0001pt\; text-align: left\;"><span style="font-size:16px\;">Create an ornament that depicts/represents your business or what your business does.</span></li>\n	<li style="margin-bottom: 0.0001pt\; text-align: left\;"><span style="font-size:16px\;">Ornaments may not be larger than 6 inches high\, 6 inches wide and 6 inches deep.</span></li>\n	<li style="margin-bottom: 0.0001pt\; text-align: left\;"><span style="font-size:16px\;">Ornaments must include your business or individual name.</span></li>\n	<li style="margin-bottom: 0.0001pt\; text-align: left\;"><span style="font-size:16px\;">One ornament entry per Member.</span></li>\n	<li style="margin-bottom: 0.0001pt\; text-align: left\;"><span style="font-size:16px\;">Ornaments will be displayed in the Visitor Center starting December 2<sup>nd</sup>\, 2019.</span></li>\n	<li style="margin-bottom: 0.0001pt\; text-align: left\;"><span style="font-size:16px\;">Ornaments must be received by December 13<sup>th</sup>\, 2019 by 4:00 pm.<span style="font-size:16px\;">&nbsp\;</span></span></li>\n</ul>\n\n<div style="text-align: left\;"><span style="font-size:16px\;">This a great way to showcase your business to our many visitors as well as create holiday cheer and excitement within your business. We encourage you to get creative and have fun! <span style="color:#B22222\;">The winner will receive a custom gift basket-winner to be announced on Wednesday\, December 18<sup>th</sup> at Greeters.</span><br />\n&nbsp\;<br />\n<span style="font-family:arial\;">We look forward to seeing your submissions. For questions please call Christie Swafford (541) 226-3101 or email <a href="mailto:cswafford@grantspasschamber.org">cswafford@grantspasschamber.org</a></span></span></div>\n</div>\n
LOCATION:GP Chamber 1995 NW Vine St. Grants Pass\, OR 97526
UID:e.1818.32406
SEQUENCE:3
DTSTAMP:20260423T221400Z
URL:https://business.grantspasschamber.org/events/details/ornament-contest-gp-chamber-members-32406
END:VEVENT

END:VCALENDAR
