BEGIN:VCALENDAR
VERSION:2.0
PRODID:-//ChamberMaster//Event Calendar 2.0//EN
METHOD:PUBLISH
X-PUBLISHED-TTL:P3D
REFRESH-INTERVAL:P3D
CALSCALE:GREGORIAN
BEGIN:VEVENT
DTSTART:20171202T170000Z
DTEND:20171203T020000Z
X-MICROSOFT-CDO-ALLDAYEVENT:FALSE
SUMMARY:Pacifica Winter Arts Festival 2017
DESCRIPTION:LIVE MUSIC\, GREAT FOOD Children's activities AND simple fun adult crafts 30 local artists with high-quality\, hand-made: Jewelry\, Ceramics\, Fiber creations\, Leather\, Photographs\, Paintings\, & more Poetry readings by the Applegate Poets at 1:00 and 3:00
X-ALT-DESC;FMTTYPE=text/html:<strong>LIVE MUSIC\, GREAT FOOD Children&#39\;s activities AND simple fun adult crafts 30 local artists with high-quality\, hand-made: Jewelry\, Ceramics\, Fiber creations\, Leather\, Photographs\, Paintings\, &amp\; more Poetry readings by the Applegate Poets at 1:00 and 3:00</strong>
LOCATION:Pacifica Garden 14615 Watergap Rd Williams (just 25 minutes from Grants Pass)
UID:e.1818.24779
SEQUENCE:3
DTSTAMP:20260424T163641Z
URL:https://business.grantspasschamber.org/events/details/pacifica-winter-arts-festival-2017-24779
END:VEVENT

END:VCALENDAR
