BEGIN:VCALENDAR
VERSION:2.0
PRODID:-//ChamberMaster//Event Calendar 2.0//EN
METHOD:PUBLISH
X-PUBLISHED-TTL:P3D
REFRESH-INTERVAL:P3D
CALSCALE:GREGORIAN
BEGIN:VEVENT
DTSTART:20230311T160000Z
DTEND:20230311T200000Z
X-MICROSOFT-CDO-ALLDAYEVENT:FALSE
SUMMARY:Pancake Pop Up
DESCRIPTION:Murf's Marvelous Pancakes March Pancake Pop Up!!!\n\n \n\n\n\nJoin us Saturday March 11th from 8am to noon for Murf's Marvelous Pancakes for thee best pancakes you've ever had!!\n\n\n\nThis month we will be featuring the handcrafted syrup flavors of Irish Cream\, Pineapple Upside Down Cake\, Bourbon Maple Cream and Lemon Cheesecake!!\n\n\n\nEnjoy one of those flavors atop scratch made buttermilk pancakes and then top it off with a dollop of White Chocolate Whip Cream!! We even have scratch made gluten free pancakes!\n\n\n\nAdd a specialty or house coffee from Wheelhouse Coffee or kick it up a notch and enjoy one of the delicious mimosas from Weekend Beer Company!\n\n\n\nFun\, food\, family & friends - what a great way to start your Saturday!!
X-ALT-DESC;FMTTYPE=text/html:<div background-color:="" class="xdj266r x11i5rnm xat24cr x1mh8g0r x1vvkbs x126k92a" color:="" font-size:="" segoe="" style="margin: 0px\; white-space: pre-wrap\; overflow-wrap: break-word\; font-family: " ui="">\n<div dir="auto" style="font-family: inherit\;"><strong><span style="font-size:20px\;">Murf&#39\;s Marvelous Pancakes March Pancake Pop Up!!!</span></strong><br />\n&nbsp\;</div>\n\n<div dir="auto" style="font-family: inherit\;">\n<div class="x11i5rnm xat24cr x1mh8g0r x1vvkbs xtlvy1s x126k92a" style="margin: 0.5em 0px 0px\; white-space: pre-wrap\; overflow-wrap: break-word\; font-family: &quot\;Segoe UI Historic&quot\;\, &quot\;Segoe UI&quot\;\, Helvetica\, Arial\, sans-serif\; color: rgb(5\, 5\, 5)\; font-size: 15px\; background-color: rgb(255\, 255\, 255)\;">\n<div dir="auto" style="font-family: inherit\;"><span style="font-size:20px\;">Join us Saturday March 11th from 8am to noon for Murf&#39\;s Marvelous Pancakes for thee best pancakes you&#39\;ve ever had!!</span></div>\n</div>\n\n<div class="x11i5rnm xat24cr x1mh8g0r x1vvkbs xtlvy1s x126k92a" style="margin: 0.5em 0px 0px\; white-space: pre-wrap\; overflow-wrap: break-word\; font-family: &quot\;Segoe UI Historic&quot\;\, &quot\;Segoe UI&quot\;\, Helvetica\, Arial\, sans-serif\; color: rgb(5\, 5\, 5)\; font-size: 15px\; background-color: rgb(255\, 255\, 255)\;">\n<div dir="auto" style="font-family: inherit\;"><span style="font-size:20px\;">This month we will be featuring the handcrafted syrup flavors of Irish Cream\, Pineapple Upside Down Cake\, Bourbon Maple Cream and Lemon Cheesecake!!</span></div>\n</div>\n\n<div class="x11i5rnm xat24cr x1mh8g0r x1vvkbs xtlvy1s x126k92a" style="margin: 0.5em 0px 0px\; white-space: pre-wrap\; overflow-wrap: break-word\; font-family: &quot\;Segoe UI Historic&quot\;\, &quot\;Segoe UI&quot\;\, Helvetica\, Arial\, sans-serif\; color: rgb(5\, 5\, 5)\; font-size: 15px\; background-color: rgb(255\, 255\, 255)\;">\n<div dir="auto" style="font-family: inherit\;"><span style="font-size:20px\;">Enjoy one of those flavors atop scratch made buttermilk pancakes and then top it off with a dollop of White Chocolate Whip Cream!! We even have scratch made gluten free pancakes!</span></div>\n</div>\n\n<div class="x11i5rnm xat24cr x1mh8g0r x1vvkbs xtlvy1s x126k92a" style="margin: 0.5em 0px 0px\; white-space: pre-wrap\; overflow-wrap: break-word\; font-family: &quot\;Segoe UI Historic&quot\;\, &quot\;Segoe UI&quot\;\, Helvetica\, Arial\, sans-serif\; color: rgb(5\, 5\, 5)\; font-size: 15px\; background-color: rgb(255\, 255\, 255)\;">\n<div dir="auto" style="font-family: inherit\;"><span style="font-size:20px\;">Add a specialty or house coffee from Wheelhouse Coffee or kick it up a notch and enjoy one of the delicious mimosas from Weekend Beer Company!</span></div>\n</div>\n\n<div class="x11i5rnm xat24cr x1mh8g0r x1vvkbs xtlvy1s x126k92a" style="margin: 0.5em 0px 0px\; white-space: pre-wrap\; overflow-wrap: break-word\; font-family: &quot\;Segoe UI Historic&quot\;\, &quot\;Segoe UI&quot\;\, Helvetica\, Arial\, sans-serif\; color: rgb(5\, 5\, 5)\; font-size: 15px\; background-color: rgb(255\, 255\, 255)\;">\n<div dir="auto" style="font-family: inherit\;"><span style="font-size:20px\;">Fun\, food\, family &amp\; friends - what a great way to start your Saturday!!</span></div>\n</div>\n</div>\n</div>\n
LOCATION:Weekend Beer Company 1863 NW Washington Blvd
UID:e.1818.42649
SEQUENCE:3
DTSTAMP:20260422T120118Z
URL:https://business.grantspasschamber.org/events/details/pancake-pop-up-42649
END:VEVENT

END:VCALENDAR
