BEGIN:VCALENDAR
VERSION:2.0
PRODID:-//ChamberMaster//Event Calendar 2.0//EN
METHOD:PUBLISH
X-PUBLISHED-TTL:P3D
REFRESH-INTERVAL:P3D
CALSCALE:GREGORIAN
BEGIN:VEVENT
DTSTART:20160628T190000Z
DTEND:20160628T230000Z
X-MICROSOFT-CDO-ALLDAYEVENT:FALSE
SUMMARY:Panda Express Job Fair
DESCRIPTION:Panda Express is looking to hire 40 employees for their new store. They are looking to hire anything from: Counter Help\, Cooks and a General Manager.
X-ALT-DESC;FMTTYPE=text/html:<strong>Panda Express is looking to hire 40 employees for their new store. They are looking to hire anything from: Counter Help\, Cooks and a General Manager.</strong>
LOCATION:Grants Pass WorkSource 1569 NE F St. Grants Pass\, OR 97526.
UID:e.1818.17599
SEQUENCE:3
DTSTAMP:20260425T223844Z
URL:https://business.grantspasschamber.org/events/details/panda-express-job-fair-06-28-2016-17599
END:VEVENT

END:VCALENDAR
