BEGIN:VCALENDAR
VERSION:2.0
PRODID:-//ChamberMaster//Event Calendar 2.0//EN
METHOD:PUBLISH
X-PUBLISHED-TTL:P3D
REFRESH-INTERVAL:P3D
CALSCALE:GREGORIAN
BEGIN:VEVENT
DTSTART;VALUE=DATE:20160923
DTEND;VALUE=DATE:20160924
TRANSP:TRANSPARENT
X-MICROSOFT-CDO-ALLDAYEVENT:TRUE
SUMMARY:Paper Tigers ~ FREE Documentary
DESCRIPTION:FREE Documentary from KPJR Films ~ One high school's unlikely success story\n\n\n\nFirst showing in Grants Pass on Wednesday\, September 21st at Parkway Christian Center Sanctuary and second showing in Medford on Friday\, September 23rd at Smullin Health Education Center Auditorium.\n\n\n\nJim Sporleder\, former principal of Lincoln High School in Walla Walla\, WA. (featured in documentary Paper Tigers)\, and will be present at this showing of the film.
X-ALT-DESC;FMTTYPE=text/html:<strong><u>FREE Documentary from KPJR Films</u> ~ One high school&#39\;s unlikely success story<br />\n<br />\n<u>First showing in Grants Pass</u> on Wednesday\, September 21st at Parkway Christian Center Sanctuary <u>and second showing in Medford</u> on Friday\, September 23rd at Smullin Health Education Center Auditorium.<br />\n<br />\nJim Sporleder\, former principal of Lincoln High School in Walla Walla\, WA. (featured in documentary Paper Tigers)\, and will be present at this showing of the film.</strong>
LOCATION:Parkway Christian Center Sanctuary 229 NE Beacon Dr Grants Pass Smullin Health Education Center Auditorium 2825 E Barnett Medford
UID:e.1818.17795
SEQUENCE:3
DTSTAMP:20260425T180801Z
URL:https://business.grantspasschamber.org/events/details/paper-tigers-free-documentary-17795
END:VEVENT

END:VCALENDAR
