BEGIN:VCALENDAR
VERSION:2.0
PRODID:-//ChamberMaster//Event Calendar 2.0//EN
METHOD:PUBLISH
X-PUBLISHED-TTL:P3D
REFRESH-INTERVAL:P3D
CALSCALE:GREGORIAN
BEGIN:VEVENT
DTSTART:20160524T000000Z
DTEND:20160524T020000Z
X-MICROSOFT-CDO-ALLDAYEVENT:FALSE
SUMMARY:PASTA: LIGHTENED UP
DESCRIPTION:Come and explore a fresh new take on pasta that will include a variety of recipes that are fewer in calories but not on taste. FREE COOKING CLASS!\n\n\n\nClass includes recipes as well as samples of each item prepared. Classes will be held in the Demonstration Kitchen on the 4th Floor of the Asante Center for Outpatient Health located at 537 SW Union Avenue in Grants Pass. Space is limited\, reservations are required. Please call and reserve your seat at 541-471-4208.
X-ALT-DESC;FMTTYPE=text/html:<strong>Come and explore a fresh new take on pasta that will include a variety of recipes that are fewer in calories but not on taste. FREE COOKING CLASS!<br />\n<br />\nClass includes recipes as well as samples of each item prepared. Classes will be held in the Demonstration Kitchen on the 4th Floor of the Asante Center for Outpatient Health located at 537 SW Union Avenue in Grants Pass. Space is limited\, reservations are required. Please call and reserve your seat at 541-471-4208.</strong>
LOCATION:Asante Center for Outpatient Health 537 SW Union Ave Grants Pass Demonstration Kitchen\, Fourth Floor - Straight ahead off the elevator
UID:e.1818.17221
SEQUENCE:3
DTSTAMP:20260426T000407Z
URL:https://business.grantspasschamber.org/events/details/pasta-lightened-up-05-23-2016-17221
END:VEVENT

END:VCALENDAR
