BEGIN:VCALENDAR
VERSION:2.0
PRODID:-//ChamberMaster//Event Calendar 2.0//EN
METHOD:PUBLISH
X-PUBLISHED-TTL:P3D
REFRESH-INTERVAL:P3D
CALSCALE:GREGORIAN
BEGIN:VEVENT
DTSTART:20250325T223000Z
DTEND:20250326T000000Z
X-MICROSOFT-CDO-ALLDAYEVENT:FALSE
SUMMARY:PATH of JOCO General Meeting
DESCRIPTION:Our next PATH General Meeting will be held on\n\nTuesday\, March 25th from 3:30 to 5:00pm\n\nGrants Pass City Council Chambers -- 101 NW A Street\, Grants Pass\n\n \n\nWe are excited to have Marie Hill\, Director of the Grants Pass Sobering Center as our Featured Speaker this month. We look forward to learning more about the critically important service this organization provides in our community. \n\nWe also look forward to sharing PATH's activities and hearing from our Community Partners their excellent work.\n\n \n\nFeel free to invite anyone in your circle of family\, friends and colleagues so they also can hear the great news and to learn about ways to get involved in making a difference in homelessness in our community. If you have any questions\, please don't hesitate to reach out. \n\n \n\nWe look forward to seeing you all there! \n\n \n\nhttps://pathofjoco.org/
X-ALT-DESC;FMTTYPE=text/html:<p class="x_MsoNormal" style="color: rgb(36\, 36\, 36)\; font-size: 15px\; background-color: rgb(255\, 255\, 255)\; text-align: center\; margin: 0in 0in 8pt\; line-height: 16.05px\; font-family: Aptos\, sans-serif\;"><span style="font-size:20px\;"><b data-olk-copy-source="MessageBody">Our next PATH General Meeting will be held on</b></span></p>\n\n<p class="x_MsoNormal" style="color: rgb(36\, 36\, 36)\; font-size: 15px\; background-color: rgb(255\, 255\, 255)\; text-align: center\; margin: 0in 0in 8pt\; line-height: 16.05px\; font-family: Aptos\, sans-serif\;"><span style="font-size:20px\;"><b>Tuesday\, March 25th from 3:30 to 5:00pm</b></span></p>\n\n<p class="x_MsoNormal" style="color: rgb(36\, 36\, 36)\; font-size: 15px\; background-color: rgb(255\, 255\, 255)\; text-align: center\; margin: 0in 0in 8pt\; line-height: 16.05px\; font-family: Aptos\, sans-serif\;"><span style="font-size:20px\;"><b>Grants Pass City Council Chambers --&nbsp\;</b><b>101 NW A Street\, Grants Pass</b></span></p>\n\n<p class="x_MsoNormal" style="color: rgb(36\, 36\, 36)\; font-size: 15px\; background-color: rgb(255\, 255\, 255)\; margin: 0in 0in 8pt\; line-height: 16.05px\; font-family: Aptos\, sans-serif\;">&nbsp\;</p>\n\n<div style="border: 0px\; font: inherit\; margin: 0px\; padding: 0px\; vertical-align: baseline\; color: inherit\; text-align: center\;"><span style="font-size:20px\;"><span style="border: 0px\; font-style: inherit\; font-variant-ligatures: common-ligatures\; font-variant-caps: inherit\; font-variant-numeric: inherit\; font-variant-east-asian: inherit\; font-variant-alternates: inherit\; font-variant-position: inherit\; font-variant-emoji: inherit\; font-weight: inherit\; font-stretch: inherit\; line-height: inherit\; font-family: Slack-Lato\, Slack-Fractions\, appleLogo\, sans-serif\, serif\, EmojiFont\; font-optical-sizing: inherit\; font-size-adjust: inherit\; font-kerning: inherit\; font-feature-settings: inherit\; font-variation-settings: inherit\; margin: 0px\; padding: 0px\; vertical-align: baseline\; color: rgb(29\, 28\, 29)\; box-sizing: inherit\; background-color: rgb(248\, 248\, 248)\;"><span data-olk-copy-source="MessageBody" style="border: 0px\; font-style: inherit\; font-variant: inherit\; font-weight: inherit\; font-stretch: inherit\; line-height: inherit\; font-family: inherit\; font-optical-sizing: inherit\; font-size-adjust: inherit\; font-kerning: inherit\; font-feature-settings: inherit\; font-variation-settings: inherit\; margin: 0px\; padding: 0px\; vertical-align: baseline\; color: inherit\; box-sizing: inherit\;">We are excited to have Marie Hill\, Director of the Grants Pass Sobering Center as our Featured Speaker this month.&nbsp\;</span>We look forward to learning more about the critically important service this organization provides in our community.&nbsp\;</span></span></div>\n\n<div style="border: 0px\; font: inherit\; margin: 0px\; padding: 0px\; vertical-align: baseline\; color: inherit\; text-align: center\;"><span style="font-size:20px\;"><span style="border: 0px\; font-style: inherit\; font-variant-ligatures: common-ligatures\; font-variant-caps: inherit\; font-variant-numeric: inherit\; font-variant-east-asian: inherit\; font-variant-alternates: inherit\; font-variant-position: inherit\; font-variant-emoji: inherit\; font-weight: inherit\; font-stretch: inherit\; line-height: inherit\; font-family: Slack-Lato\, Slack-Fractions\, appleLogo\, sans-serif\, serif\, EmojiFont\; font-optical-sizing: inherit\; font-size-adjust: inherit\; font-kerning: inherit\; font-feature-settings: inherit\; font-variation-settings: inherit\; margin: 0px\; padding: 0px\; vertical-align: baseline\; color: rgb(29\, 28\, 29)\; box-sizing: inherit\; background-color: rgb(248\, 248\, 248)\;"><span style="border: 0px\; font-style: inherit\; font-variant: inherit\; font-weight: inherit\; font-stretch: inherit\; line-height: inherit\; font-family: inherit\; font-optical-sizing: inherit\; font-size-adjust: inherit\; font-kerning: inherit\; font-feature-settings: inherit\; font-variation-settings: inherit\; margin: 0px\; padding: 0px\; vertical-align: baseline\; color: inherit\; box-sizing: inherit\;">We also look forward to sharing PATH&rsquo\;s activities and hearing from our Community Partners their excellent work.</span></span></span></div>\n\n<div style="border: 0px\; font: inherit\; margin: 0px\; padding: 0px\; vertical-align: baseline\; color: inherit\; text-align: center\;">&nbsp\;</div>\n\n<div style="border: 0px\; font: inherit\; margin: 0px\; padding: 0px\; vertical-align: baseline\; color: inherit\; text-align: center\;"><span style="font-size:20px\;"><span style="border: 0px\; font-style: inherit\; font-variant-ligatures: common-ligatures\; font-variant-caps: inherit\; font-variant-numeric: inherit\; font-variant-east-asian: inherit\; font-variant-alternates: inherit\; font-variant-position: inherit\; font-variant-emoji: inherit\; font-weight: inherit\; font-stretch: inherit\; line-height: inherit\; font-family: Slack-Lato\, Slack-Fractions\, appleLogo\, sans-serif\, serif\, EmojiFont\; font-optical-sizing: inherit\; font-size-adjust: inherit\; font-kerning: inherit\; font-feature-settings: inherit\; font-variation-settings: inherit\; margin: 0px\; padding: 0px\; vertical-align: baseline\; color: rgb(29\, 28\, 29)\; box-sizing: inherit\; background-color: rgb(248\, 248\, 248)\;"><span style="border: 0px\; font-style: inherit\; font-variant: inherit\; font-weight: inherit\; font-stretch: inherit\; line-height: inherit\; font-family: inherit\; font-optical-sizing: inherit\; font-size-adjust: inherit\; font-kerning: inherit\; font-feature-settings: inherit\; font-variation-settings: inherit\; margin: 0px\; padding: 0px\; vertical-align: baseline\; color: inherit\; box-sizing: inherit\;">Feel free to invite anyone in your circle of family\, friends and colleagues so they also can hear the great news and to learn about ways to get involved in making a difference in homelessness in our community.&nbsp\;</span>If you have any questions\, please don&rsquo\;t hesitate to reach out.&nbsp\;</span></span></div>\n\n<div style="border: 0px\; font: inherit\; margin: 0px\; padding: 0px\; vertical-align: baseline\; color: inherit\; text-align: center\;">&nbsp\;</div>\n\n<div style="border: 0px\; font: inherit\; margin: 0px\; padding: 0px\; vertical-align: baseline\; color: inherit\; text-align: center\;"><span style="font-size:20px\;"><span style="border: 0px\; font-style: inherit\; font-variant-ligatures: common-ligatures\; font-variant-caps: inherit\; font-variant-numeric: inherit\; font-variant-east-asian: inherit\; font-variant-alternates: inherit\; font-variant-position: inherit\; font-variant-emoji: inherit\; font-weight: inherit\; font-stretch: inherit\; line-height: inherit\; font-family: Slack-Lato\, Slack-Fractions\, appleLogo\, sans-serif\, serif\, EmojiFont\; font-optical-sizing: inherit\; font-size-adjust: inherit\; font-kerning: inherit\; font-feature-settings: inherit\; font-variation-settings: inherit\; margin: 0px\; padding: 0px\; vertical-align: baseline\; color: rgb(29\, 28\, 29)\; box-sizing: inherit\; background-color: rgb(248\, 248\, 248)\;"><b><i>We look forward to seeing you all there!&nbsp\;</i></b></span></span></div>\n\n<div style="border: 0px\; font: inherit\; margin: 0px\; padding: 0px\; vertical-align: baseline\; color: inherit\; text-align: center\;">&nbsp\;</div>\n\n<div style="border: 0px\; font: inherit\; margin: 0px\; padding: 0px\; vertical-align: baseline\; color: inherit\; text-align: center\;"><span style="font-size:20px\;"><span style="border: 0px\; font-style: inherit\; font-variant-ligatures: common-ligatures\; font-variant-caps: inherit\; font-variant-numeric: inherit\; font-variant-east-asian: inherit\; font-variant-alternates: inherit\; font-variant-position: inherit\; font-variant-emoji: inherit\; font-weight: inherit\; font-stretch: inherit\; line-height: inherit\; font-family: Slack-Lato\, Slack-Fractions\, appleLogo\, sans-serif\, serif\, EmojiFont\; font-optical-sizing: inherit\; font-size-adjust: inherit\; font-kerning: inherit\; font-feature-settings: inherit\; font-variation-settings: inherit\; margin: 0px\; padding: 0px\; vertical-align: baseline\; color: rgb(29\, 28\, 29)\; box-sizing: inherit\; background-color: rgb(248\, 248\, 248)\;"><a data-auth="NotApplicable" data-linkindex="0" href="https://pathofjoco.org/" id="LPlnk847881" style="border: 0px\; font-style: inherit\; font-variant-ligatures: normal\; font-variant-caps: inherit\; font-variant-numeric: inherit\; font-variant-east-asian: inherit\; font-variant-alternates: inherit\; font-variant-position: inherit\; font-variant-emoji: inherit\; font-weight: inherit\; font-stretch: inherit\; font-size: inherit\; line-height: inherit\; font-family: Aptos\, sans-serif\; font-optical-sizing: inherit\; font-size-adjust: inherit\; font-kerning: inherit\; font-feature-settings: inherit\; font-variation-settings: inherit\; margin: 0px\; padding: 0px\; vertical-align: baseline\; text-align: start\; background-color: rgb(255\, 255\, 255)\;" title="https://pathofjoco.org/">https://pathofjoco.org/</a></span></span></div>\n\n<div style="border: 0px\; font: inherit\; margin: 0px\; padding: 0px\; vertical-align: baseline\; color: inherit\; text-align: center\;">&nbsp\;</div>\n\n<p class="x_MsoNormal" style="color: rgb(36\, 36\, 36)\; font-size: 15px\; background-color: rgb(255\, 255\, 255)\; margin: 0in 0in 8pt\; line-height: 16.05px\; font-family: Aptos\, sans-serif\;">&nbsp\;</p>\n
LOCATION:City Council Chambers 101 NW A St
UID:e.1818.54166
SEQUENCE:3
DTSTAMP:20260419T152400Z
URL:https://business.grantspasschamber.org/events/details/path-of-joco-general-meeting-54166
END:VEVENT

END:VCALENDAR
