BEGIN:VCALENDAR
VERSION:2.0
PRODID:-//ChamberMaster//Event Calendar 2.0//EN
METHOD:PUBLISH
X-PUBLISHED-TTL:P3D
REFRESH-INTERVAL:P3D
CALSCALE:GREGORIAN
BEGIN:VEVENT
DTSTART:20250527T220000Z
DTEND:20250528T000000Z
X-MICROSOFT-CDO-ALLDAYEVENT:FALSE
SUMMARY:PATH of JOCO General Meeting
DESCRIPTION:Our next PATH General Meeting is scheduled for:\n\nTuesday\, May 27th from 3:00 to 5:00pm\, at the Grants Pass City Council Chambers. \n\nMany of our PATH members\, community partners\, and participants voiced a desire to have more time to network during our monthly meetings\, so we have changed the meeting time to be 3:00-4:30pm\, and 4:30-5:00pm for networking.\n\nWe are excited to have Colleen Padilla and Mariah Brennan from Hearts with a Mission as our Featured Speakers this month. We look forward to learning more about their important work they provide for our youth and families\, and now seniors in our communities. We also look forward to sharing PATH's activities and hearing from our Community Partners about their excellent work. \n\nWe are happy to announce that every month we will have a box available at the meeting for anyone wanting to donate non-perishable food items for the Jo Co Food Bank. All donations will be greatly appreciated!  \n\nFeel free to invite anyone in your circle of family\, friends and colleagues so they also can hear the great news and to learn about ways to get involved in making a difference in homelessness in our community. If you have any questions\, please don't hesitate to reach out. \n\nWe look forward to seeing you all there!\n\nhttps://pathofjoco.org/
X-ALT-DESC;FMTTYPE=text/html:<p class="x_MsoNormal" data-olk-copy-source="MessageBody" style="color: rgb(36\, 36\, 36)\; font-size: 15px\; background-color: rgb(255\, 255\, 255)\; text-align: center\; margin: 0in 0in 8pt\; line-height: 17.25px\; font-family: Aptos\, sans-serif\;">Our next PATH General Meeting is scheduled for:</p>\n\n<p class="x_MsoNormal" style="color: rgb(36\, 36\, 36)\; font-size: 15px\; background-color: rgb(255\, 255\, 255)\; text-align: center\; margin: 0in 0in 8pt\; line-height: 17.25px\; font-family: Aptos\, sans-serif\;"><b>Tuesday\, May 27th from 3:00 to 5:00pm</b>\, at the Grants Pass City Council Chambers.&nbsp\;</p>\n\n<p class="x_MsoNormal" style="color: rgb(36\, 36\, 36)\; font-size: 15px\; background-color: rgb(255\, 255\, 255)\; text-align: center\; margin: 0in 0in 8pt\; line-height: 17.25px\; font-family: Aptos\, sans-serif\;"><i>Many of our PATH members\, community partners\, and participants voiced a desire to have&nbsp\;</i><i>more time to network&nbsp\;</i><i>during our monthly&nbsp\;</i><i>meetings\,&nbsp\;</i><i>so we have changed the&nbsp\;</i><i><u>meeting time to be 3:00-4:30pm\, and 4:30-5:00pm for networking</u>.</i></p>\n\n<p class="x_MsoNormal" style="color: rgb(36\, 36\, 36)\; font-size: 15px\; background-color: rgb(255\, 255\, 255)\; text-align: center\; margin: 0in 0in 8pt\; line-height: 17.25px\; font-family: Aptos\, sans-serif\;">We are excited to have&nbsp\;<i><b>Colleen Padilla and Mariah Brennan from Hearts with a Mission</b>&nbsp\;as our Featured Speakers</i>&nbsp\;this month. We look forward to learning more about their important work they provide for our youth and families\, and now seniors in our communities. We also look forward to sharing PATH&rsquo\;s activities and hearing from our Community Partners about their excellent work.&nbsp\;</p>\n\n<p class="x_MsoNormal" style="color: rgb(36\, 36\, 36)\; font-size: 15px\; background-color: rgb(255\, 255\, 255)\; text-align: center\; margin: 0in 0in 8pt\; line-height: 17.25px\; font-family: Aptos\, sans-serif\;">We are happy to announce that every month we will have a box available at the meeting for anyone wanting to donate non-perishable food items for the Jo Co Food Bank. All donations will be greatly appreciated!&nbsp\;&#128522\;</p>\n\n<p class="x_MsoNormal" style="color: rgb(36\, 36\, 36)\; font-size: 15px\; background-color: rgb(255\, 255\, 255)\; text-align: center\; margin: 0in 0in 8pt\; line-height: 17.25px\; font-family: Aptos\, sans-serif\;">Feel free to invite anyone in your circle of family\, friends and colleagues so they also can hear the great news and to learn about ways to get involved in making a difference in homelessness in our community. If you have any questions\, please don&rsquo\;t hesitate to reach out.&nbsp\;</p>\n\n<p class="x_MsoNormal" style="color: rgb(36\, 36\, 36)\; font-size: 15px\; background-color: rgb(255\, 255\, 255)\; text-align: center\; margin: 0in 0in 8pt\; line-height: 17.25px\; font-family: Aptos\, sans-serif\;"><b>We look forward to seeing you all there!</b></p>\n\n<p class="x_MsoNormal" style="color: rgb(36\, 36\, 36)\; font-size: 15px\; background-color: rgb(255\, 255\, 255)\; text-align: center\; margin: 0in 0in 8pt\; line-height: 17.25px\; font-family: Aptos\, sans-serif\;"><b><a data-auth="NotApplicable" data-linkindex="0" href="https://pathofjoco.org/" id="LPlnk177557" style="border: 0px\; font: inherit\; margin: 0px\; padding: 0px\; vertical-align: baseline\;" title="https://pathofjoco.org/">https://pathofjoco.org/</a></b></p>\n\n<p class="x_MsoNormal" style="color: rgb(36\, 36\, 36)\; font-size: 15px\; background-color: rgb(255\, 255\, 255)\; margin: 0in 0in 8pt\; line-height: 16.05px\; font-family: Aptos\, sans-serif\;">&nbsp\;</p>\n
LOCATION:City Council Chambers 101 NW A St
UID:e.1818.54714
SEQUENCE:3
DTSTAMP:20260419T115944Z
URL:https://business.grantspasschamber.org/events/details/path-of-joco-general-meeting-54714
END:VEVENT

END:VCALENDAR
