BEGIN:VCALENDAR
VERSION:2.0
PRODID:-//ChamberMaster//Event Calendar 2.0//EN
METHOD:PUBLISH
X-PUBLISHED-TTL:P3D
REFRESH-INTERVAL:P3D
CALSCALE:GREGORIAN
BEGIN:VEVENT
DTSTART:20160302T003000Z
DTEND:20160302T003000Z
X-MICROSOFT-CDO-ALLDAYEVENT:FALSE
SUMMARY:Performant Career Opportunities
DESCRIPTION:Come learn more about our career opportunities.
X-ALT-DESC;FMTTYPE=text/html:Come learn more about our career opportunities.
LOCATION:1780 Nebraska Avenue Grants Pass
UID:e.1818.15838
SEQUENCE:3
DTSTAMP:20260426T030610Z
URL:https://business.grantspasschamber.org/events/details/performant-career-opportunities-03-01-2016-15838
END:VEVENT

END:VCALENDAR
