BEGIN:VCALENDAR
VERSION:2.0
PRODID:-//ChamberMaster//Event Calendar 2.0//EN
METHOD:PUBLISH
X-PUBLISHED-TTL:P3D
REFRESH-INTERVAL:P3D
CALSCALE:GREGORIAN
BEGIN:VEVENT
DTSTART:20160426T233000Z
DTEND:20160427T020000Z
X-MICROSOFT-CDO-ALLDAYEVENT:FALSE
SUMMARY:Performant Hiring Event
DESCRIPTION:Careers at PERFORMANT\n\nA leader in providing analytics\, audit\, and recovery services for Government\, Healthcare and Financial Services markets. In business 40 years\, and growing.\n\n \n\n	Are you looking for a career   not just a job? \n\n\n\n	We value internal career growth & promotion.\n\n\n\n	Are you a high performer and want the ability to earn more?\n\n\n\n	We pay an hourly base\, plus offer rich bonus opportunities.  \n\n\n\n	Are you a quick learner and adaptable?\n\n\n\n	We provide paid training.\n\n\n\n	Are you seeking work-life balance? \n\n\n\n	We have competitive benefits & flexible M-F schedules.
X-ALT-DESC;FMTTYPE=text/html:<span style="font-family:verdana\,sans-serif\;"><span style="font-size:13.0pt\;"><em><span style="font-size:22px\;">Careers at PERFORMANT</span></em><br />\nA leader in providing analytics\, audit\, and recovery services for Government\, Healthcare and Financial Services markets. </span></span><span style="font-family:verdana\,sans-serif\;"><span style="font-size:12.0pt\;">In business 40</span></span><span style="font-family:verdana\,sans-serif\;"><span style="font-size:12.0pt\;"> years\, and </span></span><span style="font-family:verdana\,sans-serif\;"><span style="font-size:12.0pt\;">growing.</span></span><br />\n&nbsp\;\n<ul style="list-style-type:circle\;">\n	<li style="margin-top:0in\;margin-right:0in\;margin-bottom:0in\;margin-bottom:.0001pt\;"><strong><em><span style="font-size:18.0pt\;">Are you looking for a career &ndash\; not just a job? </span></em></strong></li>\n</ul>\n\n<ul>\n	<li style="margin-top:0in\;margin-right:0in\;margin-bottom:0in\;margin-bottom:.0001pt\;"><span style="color:#1F497D\;"><span style="font-size:18.0pt\;">We value <strong><u>internal career growth &amp\; promotion.</u></strong></span></span></li>\n</ul>\n\n<ul style="list-style-type:circle\;">\n	<li style="margin-top:0in\;margin-right:0in\;margin-bottom:0in\;margin-bottom:.0001pt\;"><strong><em><span style="font-size:18.0pt\;">Are you a high performer and want the ability to earn more?</span></em></strong></li>\n</ul>\n\n<ul>\n	<li style="margin-top:0in\;margin-right:0in\;margin-bottom:0in\;margin-bottom:.0001pt\;"><span style="color:#1F497D\;"><span style="font-size:18.0pt\;">We pay an hourly base\, plus offer <strong><u>rich bonus opportunities.</u>&nbsp\; </strong></span></span></li>\n</ul>\n\n<ul style="list-style-type:circle\;">\n	<li style="margin-top:0in\;margin-right:0in\;margin-bottom:0in\;margin-bottom:.0001pt\;"><strong><em><span style="font-size:18.0pt\;">Are you a quick learner and adaptable?</span></em></strong></li>\n</ul>\n\n<ul>\n	<li style="margin-top:0in\;margin-right:0in\;margin-bottom:0in\;margin-bottom:.0001pt\;"><span style="color:#1F497D\;"><span style="font-size:18.0pt\;">We provide<strong> <u>paid training.</u></strong></span></span></li>\n</ul>\n\n<ul style="list-style-type:circle\;">\n	<li style="margin-top:0in\;margin-right:0in\;margin-bottom:0in\;margin-bottom:.0001pt\;"><strong><em><span style="font-size:18.0pt\;">Are you seeking work-life balance? </span></em></strong></li>\n</ul>\n\n<ul>\n	<li style="margin-top:0in\;margin-right:0in\;margin-bottom:0in\;margin-bottom:.0001pt\;"><span style="color:#1F497D\;"><span style="font-size:18.0pt\;">We have<strong> <u>competitive benefits </u></strong><u>&amp\; <strong>flexible M-F schedules.</strong></u></span></span></li>\n</ul>\n
LOCATION:1780 Nebraska Ave Grants Pass\, OR
UID:e.1818.17428
SEQUENCE:3
DTSTAMP:20260426T013254Z
URL:https://business.grantspasschamber.org/events/details/performant-hiring-event-04-26-2016-17428
END:VEVENT

END:VCALENDAR
