BEGIN:VCALENDAR
VERSION:2.0
PRODID:-//ChamberMaster//Event Calendar 2.0//EN
METHOD:PUBLISH
X-PUBLISHED-TTL:P3D
REFRESH-INTERVAL:P3D
CALSCALE:GREGORIAN
BEGIN:VEVENT
DTSTART;VALUE=DATE:20160823
DTEND;VALUE=DATE:20160825
TRANSP:TRANSPARENT
X-MICROSOFT-CDO-ALLDAYEVENT:TRUE
SUMMARY:Performant Hiring Event ~ Two Days
DESCRIPTION:Attend our hiring event and get an interview on the spot!!\n\nWe pay hourly base wage plus offer incentives for performance\n\n\n\nTo learn more about us and apply online at:  http://www.performantcorp.com
X-ALT-DESC;FMTTYPE=text/html:<strong><u>Attend our hiring event and get an interview on the spot!!</u><br />\nWe pay hourly base wage plus offer incentives for performance<br />\n<br />\nTo learn more about us and apply online at:&nbsp\; <a href="http://www.performantcorp.com">http://www.performantcorp.com</a></strong>
LOCATION:Performant 1780 Nebraska Avenue Grants Pass
UID:e.1818.17746
SEQUENCE:3
DTSTAMP:20260425T192157Z
URL:https://business.grantspasschamber.org/events/details/performant-hiring-event-two-days-08-23-2016-17746
END:VEVENT

END:VCALENDAR
