BEGIN:VCALENDAR
VERSION:2.0
PRODID:-//ChamberMaster//Event Calendar 2.0//EN
METHOD:PUBLISH
X-PUBLISHED-TTL:P3D
REFRESH-INTERVAL:P3D
CALSCALE:GREGORIAN
BEGIN:VEVENT
DTSTART;VALUE=DATE:20180402
DTEND;VALUE=DATE:20180403
TRANSP:TRANSPARENT
X-MICROSOFT-CDO-ALLDAYEVENT:TRUE
SUMMARY:Pet Food Drive
DESCRIPTION:Oak Lane Retirement Residents and Staff are collecting pet food donations for the Josephine County Animal Shelter throughout the month of April.
X-ALT-DESC;FMTTYPE=text/html:<span style="font-size:18px\;"><strong>Oak Lane Retirement Residents and Staff are collecting pet food donations for the Josephine County Animal Shelter throughout the month of April.</strong></span>
LOCATION:Donations can be dropped off at: Oak Lane Retirement 727 SW Rogue Rive Ave Grants Pass
UID:e.1818.28687
SEQUENCE:3
DTSTAMP:20260424T051012Z
URL:https://business.grantspasschamber.org/events/details/pet-food-drive-04-02-2018-28687
END:VEVENT

END:VCALENDAR
