BEGIN:VCALENDAR
VERSION:2.0
PRODID:-//ChamberMaster//Event Calendar 2.0//EN
METHOD:PUBLISH
X-PUBLISHED-TTL:P3D
REFRESH-INTERVAL:P3D
CALSCALE:GREGORIAN
BEGIN:VEVENT
DTSTART:20160420T170000Z
DTEND:20160421T030000Z
X-MICROSOFT-CDO-ALLDAYEVENT:FALSE
SUMMARY:Phoenix Glass 4/20 Event
DESCRIPTION:Come join us in celebrating our one year anniversary on 4/20\n\n\n\nLive glassblowing all afternoon! Raffle prizes! 20% off all glass in the store! Live glassblowing with Makai\, Glass Pav\, Muel\, and Matt Seme.\n\n\n\nWe have 3 beautiful pieces to raffle off. Raffle tickets are only $2 each or 6 for $10.\n\nPhoenix Glass is conveniently located on the corner of 6th and H in beautiful downtown Grants Pass\, Oregon\,  inside of the legendary Listen Here Music! Don't miss out on all the 4/20 fun and excitement!
X-ALT-DESC;FMTTYPE=text/html:<p><strong><u>Come join us in celebrating our one year anniversary on 4/20</u><br />\n<br />\nLive glassblowing all afternoon! Raffle prizes! 20% off all glass in the store! <u><em>Live glassblowing</em></u> with Makai\, Glass Pav\, Muel\, and Matt Seme.<br />\n<br />\nWe have 3 beautiful pieces to raffle off. Raffle tickets are only $2 each or 6 for $10.</strong></p>\n\n<p><strong>Phoenix Glass is conveniently located on the corner of 6th and H in beautiful downtown Grants Pass\, Oregon\,&nbsp\; inside of the legendary Listen Here Music!<u> Don&#39\;t miss out on all the 4/20 fun and excitement!</u></strong></p>\n
LOCATION:Phoenix Glass 234 SW 6th St. Grants Pass\, Oregon. 97526
UID:e.1818.17426
SEQUENCE:3
DTSTAMP:20260426T013345Z
URL:https://business.grantspasschamber.org/events/details/phoenix-glass-4-20-event-04-20-2016-17426
END:VEVENT

END:VCALENDAR
