BEGIN:VCALENDAR
VERSION:2.0
PRODID:-//ChamberMaster//Event Calendar 2.0//EN
METHOD:PUBLISH
X-PUBLISHED-TTL:P3D
REFRESH-INTERVAL:P3D
CALSCALE:GREGORIAN
BEGIN:VEVENT
DTSTART;VALUE=DATE:20160429
DTEND;VALUE=DATE:20160502
TRANSP:TRANSPARENT
X-MICROSOFT-CDO-ALLDAYEVENT:TRUE
SUMMARY:Photo Adventure/''Jaunts with Just Jeri''
DESCRIPTION:Come on a fun filled photo adventure with Just Jeri Photographer. \n\n\n\nFood\, friends\, photo lesson\, and a ride to beautiful Avenue of the Boulders in Prospect Oregon.\n\n\n\nWe will be taking photos of the 3 waterfalls located there. Just bring your camera and we'll take care of the rest!
X-ALT-DESC;FMTTYPE=text/html:<strong><em>Come on a fun filled photo adventure with Just Jeri Photographer. </em><br />\n<br />\nFood\, friends\, photo lesson\, and a ride to beautiful Avenue of the Boulders in Prospect Oregon.<br />\n<br />\nWe will be taking photos of the 3 waterfalls located there. Just bring your camera and we&#39\;ll take care of the rest!</strong>
LOCATION:We will be meeting at the Boardroom parking lot on Williams Hwy.
UID:e.1818.17211
SEQUENCE:3
DTSTAMP:20260426T001502Z
URL:https://business.grantspasschamber.org/events/details/photo-adventure-jaunts-with-just-jeri-04-29-2016-17211
END:VEVENT

END:VCALENDAR
