BEGIN:VCALENDAR
VERSION:2.0
PRODID:-//ChamberMaster//Event Calendar 2.0//EN
METHOD:PUBLISH
X-PUBLISHED-TTL:P3D
REFRESH-INTERVAL:P3D
CALSCALE:GREGORIAN
BEGIN:VEVENT
DTSTART;VALUE=DATE:20161008
DTEND;VALUE=DATE:20161009
TRANSP:TRANSPARENT
X-MICROSOFT-CDO-ALLDAYEVENT:TRUE
SUMMARY:Photo Adventure-Jaunts with Just Jeri
DESCRIPTION:Dont't miss out!! Join us on our luxury motorcoach (The Beast) for a photographic field trip to picturesque Avenue of the Boulders in Prospect. \n\n\n\nClick here for details: http://justjeri.com/avenue-of-the-boulders/\n\n\n\nYou can enjoy the sights\, sounds and photogenic landmarks of the boulders that (in their absence) have made Crater Lake what it is today.\n\n\n\nOn this photo adventure\, you'll learn/practice the basics of good photo composition\, so you can walk away with the very best images of your time at this natural attraction\, Avenue of the Boulders.\n\n\n\nCome join the fun!
X-ALT-DESC;FMTTYPE=text/html:<span style="color:#FF0000\;"><strong><span style="font-family: verdana\; font-size: 14px\;">Dont&#39\;t miss out!!</span></strong></span><span style="background-color:rgb(255\, 255\, 255)\; color:rgb(77\, 77\, 77)\; font-family:century gothic\,arial\,helvetica\,sans-serif\; font-size:14px">&nbsp\;</span><span style="color:rgb(77\, 77\, 77)\; font-family:verdana\; font-size:14px"><strong>Join us on our luxury motorcoach (The Beast) for a <u>photographic field trip to picturesque Avenue of</u> <u>the Boulders in Prospect.</u> </strong><br />\n<br />\n<strong>Click here for details</strong>:&nbsp\;<a href="http://justjeri.com/avenue-of-the-boulders/">http://justjeri.com/avenue-of-the-boulders/</a></span><br />\n<br />\n<strong>You can enjoy the sights\, sounds and photogenic landmarks of the boulders that (in their absence) have made Crater Lake what it is today.<br />\n<br />\nOn this photo adventure\, you&rsquo\;ll learn/practice the basics of good photo composition\, so you can walk away with the very best images of your time at this natural attraction\, Avenue of the Boulders.</strong><br />\n<br />\n<strong><span style="color:rgb(77\, 77\, 77)\; font-family:verdana\; font-size:14px">Come join the fun!</span></strong>
LOCATION:Meet at The Board Room on Williams Hwy @ 8:00 sharp.
UID:e.1818.17843
SEQUENCE:3
DTSTAMP:20260425T163441Z
URL:https://business.grantspasschamber.org/events/details/photo-adventure-jaunts-with-just-jeri-10-08-2016-17843
END:VEVENT

END:VCALENDAR
