BEGIN:VCALENDAR
VERSION:2.0
PRODID:-//ChamberMaster//Event Calendar 2.0//EN
METHOD:PUBLISH
X-PUBLISHED-TTL:P3D
REFRESH-INTERVAL:P3D
CALSCALE:GREGORIAN
BEGIN:VEVENT
DTSTART:20161007T150000Z
DTEND:20161008T000000Z
X-MICROSOFT-CDO-ALLDAYEVENT:FALSE
SUMMARY:Photo Adventure-Jaunts with Just Jeri
DESCRIPTION:Dont't miss out!! Join us on our luxury motorcoach (The Beast) for a photographic field trip to picturesque Watson Falls off Hwy 138. Click here for details: http://justjeri.com/waterfall-loop1007/\n\n\n\nWatson Falls is a nearly 300-ft fall cascading through a basalt amphitheater\, and is known for being a favorite location for photographers.\n\n\n\nWe've rated this hike moderate like many of out outings\, but want you to know that it's not as easy as some of the others with this same rating. Be sure you're ready for a bit more of the fresh air in your lungs!\n\n\n\nYour time a the beautiful Watson Falls\, with good food and fun in The Beast awaits! Pack up your smartphone or camera and get into some active clothes. You won't want to miss this jaunt!\n\n\n\nCome join the fun!
X-ALT-DESC;FMTTYPE=text/html:<span style="color:#B22222"><span style="font-family:verdana"><strong>Dont&#39\;t miss out!!</strong></span></span> <span style="font-family:verdana">Join us on our luxury motorcoach (The Beast) for a photographic <u>field trip to picturesque Watson Falls off Hwy 138.</u> <u><strong>Click here for details</strong></u>:</span>&nbsp\;<a href="http://justjeri.com/waterfall-loop1007/">http://justjeri.com/waterfall-loop1007/</a><br />\n<br />\n<strong>Watson Falls is a nearly 300-ft fall cascading through a basalt amphitheater\, and is known for being a favorite location for photographers.<br />\n<br />\nWe&rsquo\;ve rated this hike moderate like many of out outings\, but want you to know that it&rsquo\;s not as easy as some of the others with this same rating. Be sure you&rsquo\;re ready for a bit more of the fresh air in your lungs!<br />\n<br />\nYour time a the beautiful Watson Falls\, with good food and fun in The Beast awaits! Pack up your smartphone or camera and get into some active clothes. You won&rsquo\;t want to miss this jaunt!<br />\n<br />\n<span style="font-family:verdana">Come join the fun!</span></strong>
LOCATION:Meet at The Board Room on Williams Hwy @8:00 sharp.
UID:e.1818.17842
SEQUENCE:3
DTSTAMP:20260425T163322Z
URL:https://business.grantspasschamber.org/events/details/photo-adventure-jaunts-with-just-jeri-17842
END:VEVENT

END:VCALENDAR
