BEGIN:VCALENDAR
VERSION:2.0
PRODID:-//ChamberMaster//Event Calendar 2.0//EN
METHOD:PUBLISH
X-PUBLISHED-TTL:P3D
REFRESH-INTERVAL:P3D
CALSCALE:GREGORIAN
BEGIN:VEVENT
DTSTART:20160729T230000Z
DTEND:20160730T020000Z
X-MICROSOFT-CDO-ALLDAYEVENT:FALSE
SUMMARY:Pie and Ice Cream Social
DESCRIPTION:A pie and ice cream social with musical entertainment and a baking contest. Sponsored by the Josephine County Historical Society.\n\n\n\nFood & Fun with entertainment\n\n\n\nBake a Pie............Win a Prize\n\n\n\nSign up for Pie Making Contest at the Research Library
X-ALT-DESC;FMTTYPE=text/html:<strong>A pie and ice cream social with musical entertainment and a baking contest. Sponsored by the Josephine County Historical Society.<br />\n<br />\nFood &amp\; Fun with entertainment<br />\n<br />\nBake a Pie............Win a Prize<br />\n<br />\n<u>Sign up for Pie Making Contest at the Research Library</u></strong>
LOCATION:Historical Schmidt House Barn 512 SW 5th Street Corner of Fifth and J Street
UID:e.1818.15284
SEQUENCE:3
DTSTAMP:20260425T210230Z
URL:https://business.grantspasschamber.org/events/details/pie-and-ice-cream-social-07-29-2016-15284
END:VEVENT

END:VCALENDAR
