BEGIN:VCALENDAR
VERSION:2.0
PRODID:-//ChamberMaster//Event Calendar 2.0//EN
METHOD:PUBLISH
X-PUBLISHED-TTL:P3D
REFRESH-INTERVAL:P3D
CALSCALE:GREGORIAN
BEGIN:VEVENT
DTSTART;VALUE=DATE:20161015
DTEND;VALUE=DATE:20161016
TRANSP:TRANSPARENT
X-MICROSOFT-CDO-ALLDAYEVENT:TRUE
SUMMARY:PNW Marching Band Competition
DESCRIPTION:Nothing like it in all of Southern Oregon.\n\n\n\n4 marching bands from all over the Pacific Northwest compete with amazing shows featuring elaborate musical productions including stunning visual effects\, intricately choreographed formations\, and amazing color guard precision routines.\n\n\n\nPrelims start at 10am\, finals begin at 5pm. Bring the whole family for an unforgettable day.
X-ALT-DESC;FMTTYPE=text/html:<strong><u>Nothing like it in all of Southern Oregon</u>.<br />\n<br />\n4 marching bands from all over the Pacific Northwest compete with amazing shows featuring elaborate musical productions including stunning visual effects\, intricately choreographed formations\, and amazing color guard precision routines.<br />\n<br />\nPrelims start at 10am\, finals begin at 5pm. Bring the whole family for an unforgettable day.</strong>
LOCATION:Grants Pass High School Mel Ingram Field 9th and A Streets in Grants Pass.
UID:e.1818.17846
SEQUENCE:3
DTSTAMP:20260425T162852Z
URL:https://business.grantspasschamber.org/events/details/pnw-marching-band-competition-17846
END:VEVENT

END:VCALENDAR
