BEGIN:VCALENDAR
VERSION:2.0
PRODID:-//ChamberMaster//Event Calendar 2.0//EN
METHOD:PUBLISH
X-PUBLISHED-TTL:P3D
REFRESH-INTERVAL:P3D
CALSCALE:GREGORIAN
BEGIN:VEVENT
DTSTART;VALUE=DATE:20160918
DTEND;VALUE=DATE:20160919
TRANSP:TRANSPARENT
X-MICROSOFT-CDO-ALLDAYEVENT:TRUE
SUMMARY:POKER RUN ~ GRANTS PASS/MERLIN MOOSE LODGE
DESCRIPTION:MOOSE RIDERS POKER RUN CAN YOU RIDE WITH THE HERD ? All hot rods\, classic cars\, car clubs are welcome. All net proceeds going to boys and girls club of the rouge valley.\n\n\n\nBREAKFAST IS AVAILABLE NEW YORK STEAK DINNER BAND :MIDNIGHT EXPRESS PLAYING 2:30 PM-6:00 PM
X-ALT-DESC;FMTTYPE=text/html:<strong>MOOSE RIDERS POKER RUN CAN YOU RIDE WITH THE HERD ? All hot rods\, classic cars\, car clubs are welcome. All net proceeds going to boys and girls club of the rouge valley.<br />\n<br />\nBREAKFAST IS AVAILABLE NEW YORK STEAK DINNER BAND :MIDNIGHT EXPRESS PLAYING 2:30 PM-6:00 PM</strong>
LOCATION:330 MERLIN AVE. MERLIN\,OREGON
UID:e.1818.17797
SEQUENCE:3
DTSTAMP:20260425T181526Z
URL:https://business.grantspasschamber.org/events/details/poker-run-grants-pass-merlin-moose-lodge-17797
END:VEVENT

END:VCALENDAR
