BEGIN:VCALENDAR
VERSION:2.0
PRODID:-//ChamberMaster//Event Calendar 2.0//EN
METHOD:PUBLISH
X-PUBLISHED-TTL:P3D
REFRESH-INTERVAL:P3D
CALSCALE:GREGORIAN
BEGIN:VEVENT
DTSTART;VALUE=DATE:20211014
DTEND;VALUE=DATE:20211017
TRANSP:TRANSPARENT
X-MICROSOFT-CDO-ALLDAYEVENT:TRUE
SUMMARY:Pregnancy Care Center Gala-2021
DESCRIPTION:2021 Annual Gala\n\nHeartbeats\n\n \n\n\n\n\n\nHonorary Chairs\, Dan and Janna Reid\, cordially invite you to choose an evening and join us for dinner and a program.\n\n\n\n\n\n\n\nWhat: The annual FREE fundraising banquet for your Pregnancy Care Center\n\n\n\nWhen: Thursday\, Friday\, Saturday - October 14th\, 15th\, and 16th. Pick a night! \n\nThe program will run from 6:30pm-9:00pm on Thursday and Friday evening and\n\nfrom 5:00pm-7:30pm on Saturday evening.\n\n\n\nWhere: Parkway Christian Church - Hull Center (same venue as 2019)\n\n\n\nSponsor: Table sponsorships are greatly appreciated. Levels are $500\, $1\,000\, $2\,500 and $5\,000 and include advertising to around 2\,500 local addresses\, preferred seating and more. \n\n\n\nHost: Fill a table with friends! Tables are 8 seats and Hosts are welcome.\n\n \n\nWhy: It's fun to enjoy a delectable dinner and engaging presentation with others who share a passion for helping moms\, dads\, and youth in our community while providing life-affirming hope!\n\n \n\nWhat Else: Keynote address by Christina Bennett and a delicious meal prepared by Goodness Gracious Catering!\n\n \n\nLearn more about Christina by clicking on one of the registration links below.\n\n\n\nTO RESERVE A TABLE\, call us at 541-479-6264.\n\n\n\nTo REGISTER for one or more SEATS on THURSDAY\, October 14th\, CLICK HERE\n\n\n\nTo REGISTER for one or more SEATS on FRIDAY\, October 15th\, CLICK HERE\n\n\n\nTo REGISTER for one or more SEATS on SATURDAY\, October 16th\, CLICK HERE
X-ALT-DESC;FMTTYPE=text/html:<h3 style="box-sizing: border-box\; font-family: tahoma\, geneva\, sans-serif\, serif\; font-weight: normal\; line-height: 1.2em\; color: rgb(19\, 67\, 134)\; margin: 0px 0px 0.3em\; font-size: 1.65em\; background-color: rgb(255\, 255\, 255)\; text-align: center\;"><span style="font-size:24px\;"><span style="color:#000000\;"><span style="font-family:verdana\;"><span style="box-sizing: border-box\; font-weight: 700\;">2021 Annual Gala</span></span></span><br />\n<span style="color:#FF0000\;"><span style="font-family:verdana\;"><span style="box-sizing: border-box\; font-weight: 700\;">Heartbeats</span></span></span></span></h3>\n\n<div style="box-sizing: border-box\; color: rgb(60\, 60\, 60)\; font-family: tahoma\, geneva\, sans-serif\, serif\; font-size: 20px\; background-color: rgb(255\, 255\, 255)\; text-align: center\;">&nbsp\;</div>\n\n<div style="box-sizing: border-box\; color: rgb(60\, 60\, 60)\; font-family: tahoma\, geneva\, sans-serif\, serif\; font-size: 20px\; background-color: rgb(255\, 255\, 255)\; text-align: center\;">\n<div class="bloq_content" id="b_item_412198" style="box-sizing: border-box\; clear: both\; color: rgb(60\, 60\, 60)\; font-family: tahoma\, geneva\, sans-serif\; font-size: 20px\; background-color: rgb(255\, 255\, 255)\; background-repeat: no-repeat\;">\n<div class="bloq_rich_text_editor_wrapper" id="bloq_rich_text_editor412198" style="box-sizing: border-box\; padding: 10px\;">\n<div id="bloq_rich_text_412198_117454" style="box-sizing: border-box\;">\n<h3 style="box-sizing: border-box\; font-family: inherit\; font-weight: normal\; line-height: 1.2em\; color: rgb(19\, 67\, 134)\; margin: 0px 0px 0.3em\; font-size: 1.65em\; text-align: center\;"><span style="box-sizing: border-box\; color: rgb(29\, 116\, 133)\;"><span style="box-sizing: border-box\; font-weight: 700\;">Honorary Chairs\, Dan and Janna Reid\, cordially invite you to choose an evening and join us for dinner and a program.</span></span></h3>\n</div>\n</div>\n</div>\n\n<div class="bloq_content" id="b_item_412199" style="box-sizing: border-box\; clear: both\; color: rgb(60\, 60\, 60)\; font-family: tahoma\, geneva\, sans-serif\; font-size: 20px\; background-color: rgb(255\, 255\, 255)\; background-repeat: no-repeat\;">\n<div class="bloq_rich_text_editor_wrapper" id="bloq_rich_text_editor412199" style="box-sizing: border-box\; padding: 10px\;">\n<div id="bloq_rich_text_412199_117455" style="box-sizing: border-box\;">\n<h5 style="box-sizing: border-box\; font-family: inherit\; font-weight: normal\; line-height: 1.2em\; color: rgb(19\, 67\, 134)\; margin: 0px 0px 0.3em\; font-size: 1.2em\; text-align: center\;"><span style="box-sizing: border-box\; color: rgb(0\, 0\, 0)\;"><span style="box-sizing: border-box\; font-weight: 700\;">What:&nbsp\;</span>The annual FREE fundraising banquet for your Pregnancy Care Center<br style="box-sizing: border-box\;" />\n<br style="box-sizing: border-box\;" />\n<span style="box-sizing: border-box\; font-weight: 700\;">When:&nbsp\;</span>Thursday\, Friday\, Saturday - October 14th\, 15th\, and 16th.&nbsp\;Pick a night!&nbsp\;<br style="box-sizing: border-box\;" />\nThe program will run from 6:30pm-9:00pm on Thursday and Friday evening and<br style="box-sizing: border-box\;" />\nfrom 5:00pm-7:30pm&nbsp\;on Saturday evening.<br style="box-sizing: border-box\;" />\n<br style="box-sizing: border-box\;" />\n<span style="box-sizing: border-box\; font-weight: 700\;">Where:&nbsp\;</span>Parkway Christian Church - Hull Center (same venue as 2019)<br style="box-sizing: border-box\;" />\n<br style="box-sizing: border-box\;" />\n<span style="box-sizing: border-box\; font-weight: 700\;">Sponsor:&nbsp\;</span>Table sponsorships are greatly appreciated. Levels are $500\, $1\,000\, $2\,500 and $5\,000 and include advertising to around 2\,500&nbsp\;local addresses\, preferred seating and more.&nbsp\;<br style="box-sizing: border-box\;" />\n<br style="box-sizing: border-box\;" />\n<span style="box-sizing: border-box\; font-weight: 700\;">Host:&nbsp\;</span>Fill a table with friends! Tables are 8 seats and Hosts are welcome.<br style="box-sizing: border-box\;" />\n&nbsp\;<br style="box-sizing: border-box\;" />\n<span style="box-sizing: border-box\; font-weight: 700\;">Why:&nbsp\;</span>It&#39\;s fun&nbsp\;to enjoy a delectable dinner and engaging presentation with others who share a passion for helping moms\, dads\, and youth in our community while providing life-affirming hope!</span><br style="box-sizing: border-box\;" />\n&nbsp\;</h5>\n\n<h3 style="box-sizing: border-box\; font-family: inherit\; font-weight: normal\; line-height: 1.2em\; color: rgb(19\, 67\, 134)\; margin: 0px 0px 0.3em\; font-size: 1.65em\; text-align: center\;"><span style="box-sizing: border-box\; color: rgb(235\, 6\, 1)\;"><em style="box-sizing: border-box\;"><span style="box-sizing: border-box\; font-weight: 700\;">What Else:&nbsp\;</span>Keynote address by Christina Bennett and a delicious meal prepared by Goodness Gracious Catering!</em></span></h3>\n\n<h5 style="box-sizing: border-box\; font-family: inherit\; font-weight: normal\; line-height: 1.2em\; color: rgb(19\, 67\, 134)\; margin: 0px 0px 0.3em\; font-size: 1.2em\;">&nbsp\;</h5>\n\n<h5 style="box-sizing: border-box\; font-family: inherit\; font-weight: normal\; line-height: 1.2em\; color: rgb(19\, 67\, 134)\; margin: 0px 0px 0.3em\; font-size: 1.2em\; text-align: center\;"><span style="box-sizing: border-box\; color: rgb(29\, 116\, 133)\;">Learn more about Christina by clicking on one of the registration links below.</span></h5>\n\n<h5 style="box-sizing: border-box\; font-family: inherit\; font-weight: normal\; line-height: 1.2em\; color: rgb(19\, 67\, 134)\; margin: 0px 0px 0.3em\; font-size: 1.2em\; text-align: center\;"><br style="box-sizing: border-box\;" />\n<span style="box-sizing: border-box\; font-weight: 700\;"><span style="box-sizing: border-box\; color: rgb(0\, 0\, 0)\;">TO&nbsp\;RESERVE A&nbsp\;TABLE\, call us at&nbsp\;</span><a href="tel:+15414796264" style="box-sizing: border-box\; background-color: transparent\; color: rgb(93\, 135\, 168)\; text-decoration-line: none\;"><span style="box-sizing: border-box\; color: rgb(0\, 0\, 0)\;">541-479-6264</span></a><span style="box-sizing: border-box\; color: rgb(0\, 0\, 0)\;">.</span><br style="box-sizing: border-box\;" />\n<br style="box-sizing: border-box\;" />\n<a href="https://secure.ministrysync.com/ministrysync/event/?e=19061" style="box-sizing: border-box\; background-color: transparent\; color: rgb(93\, 135\, 168)\; text-decoration-line: none\;"><span style="box-sizing: border-box\; color: rgb(235\, 6\, 1)\;">To REGISTER for one or more SEATS on THURSDAY\,&nbsp\;October 14th\,&nbsp\;<u style="box-sizing: border-box\;">CLICK&nbsp\;HERE</u></span></a><br style="box-sizing: border-box\;" />\n<br style="box-sizing: border-box\;" />\n<a href="https://secure.ministrysync.com/ministrysync/event/?e=19062" style="box-sizing: border-box\; background-color: transparent\; color: rgb(93\, 135\, 168)\; text-decoration-line: none\;"><span style="box-sizing: border-box\; color: rgb(235\, 6\, 1)\;">To REGISTER&nbsp\;for one or more SEATS on FRIDAY\,&nbsp\;October 15th\,&nbsp\;<u style="box-sizing: border-box\;">CLICK&nbsp\;HERE</u></span></a><br style="box-sizing: border-box\;" />\n<br style="box-sizing: border-box\;" />\n<a href="https://secure.ministrysync.com/ministrysync/event/?e=19063" style="box-sizing: border-box\; background-color: transparent\; color: rgb(93\, 135\, 168)\; text-decoration-line: none\;"><span style="box-sizing: border-box\; color: rgb(235\, 6\, 1)\;">To REGISTER for one or more SEATS on SATURDAY\,&nbsp\;October 16th\,&nbsp\;<u style="box-sizing: border-box\;">CLICK&nbsp\;HERE</u></span></a></span></h5>\n</div>\n</div>\n</div>\n</div>\n
LOCATION:Parkway Christian Church-Hull Center 229 NE Beacon Dr Grants Pass\, OR 97526
UID:e.1818.37804
SEQUENCE:3
DTSTAMP:20260421T074645Z
URL:https://business.grantspasschamber.org/events/details/pregnancy-care-center-gala-2021-37804
END:VEVENT

END:VCALENDAR
