BEGIN:VCALENDAR
VERSION:2.0
PRODID:-//ChamberMaster//Event Calendar 2.0//EN
METHOD:PUBLISH
X-PUBLISHED-TTL:P3D
REFRESH-INTERVAL:P3D
CALSCALE:GREGORIAN
BEGIN:VEVENT
DTSTART:20240303T010000Z
DTEND:20240303T050000Z
X-MICROSOFT-CDO-ALLDAYEVENT:FALSE
SUMMARY:PROM-Weekend Beer Co.
DESCRIPTION:The ever so popular Prom: Hot Weekend Nights is back! Saturday\, 3/2 at 5pm\n\nThis years theme: Red Carpet! Grab your friends or partner and dress up as anyone you want to be for the night!\n\n$15 presale tickets\n\n$20 at the door\n\nIncludes commemorative Weekend Prom glass. More details to come.\n\nPurchase online here: https://commerce.arryved.com/.../BdLUdNbbjZlRGuBkGAT0/#\n\nThis event is not the best place for the pups so please leave them at home. 21+ event. Hosted in partnership with DJ Nic of RevArt Studios
X-ALT-DESC;FMTTYPE=text/html:<div background-color:="" class="o9v6fnle cxmmr5t8 oygrvhab hcukyx3x c1et5uql ii04i59q" color:="" font-size:="" segoe="" style="overflow-wrap: break-word\; margin: 0.5em 0px 0px\; white-space: pre-wrap\; font-family: " ui="">\n<div dir="auto" style="font-family: inherit\;">\n<div class="kvgmc6g5 cxmmr5t8 oygrvhab hcukyx3x c1et5uql" style="overflow-wrap: break-word\; margin: 0px\; font-family: &quot\;Segoe UI Historic&quot\;\, &quot\;Segoe UI&quot\;\, Helvetica\, Arial\, sans-serif\; color: rgb(5\, 5\, 5)\; font-size: 15px\; background-color: rgb(255\, 255\, 255)\;">\n<div class="xdj266r x11i5rnm xat24cr x1mh8g0r x1vvkbs" style="margin: 0px\; overflow-wrap: break-word\; font-family: &quot\;Segoe UI Historic&quot\;\, &quot\;Segoe UI&quot\;\, Helvetica\, Arial\, sans-serif\; color: rgb(5\, 5\, 5)\; font-size: 15px\; background-color: rgb(255\, 255\, 255)\;"><span style="font-size:20px\;">The ever so popular Prom: Hot Weekend Nights is back! Saturday\, 3/2 at 5pm</span></div>\n\n<div class="x11i5rnm xat24cr x1mh8g0r x1vvkbs xtlvy1s" style="margin: 0.5em 0px 0px\; overflow-wrap: break-word\; font-family: &quot\;Segoe UI Historic&quot\;\, &quot\;Segoe UI&quot\;\, Helvetica\, Arial\, sans-serif\; color: rgb(5\, 5\, 5)\; font-size: 15px\; background-color: rgb(255\, 255\, 255)\;"><span style="font-size:20px\;">This years theme: Red Carpet! Grab your friends or partner and dress up as anyone you want to be for the night!</span></div>\n\n<div class="x11i5rnm xat24cr x1mh8g0r x1vvkbs xtlvy1s" style="margin: 0.5em 0px 0px\; overflow-wrap: break-word\; font-family: &quot\;Segoe UI Historic&quot\;\, &quot\;Segoe UI&quot\;\, Helvetica\, Arial\, sans-serif\; color: rgb(5\, 5\, 5)\; font-size: 15px\; background-color: rgb(255\, 255\, 255)\;"><span style="font-size:20px\;">$15 presale tickets<br />\n$20 at the door</span></div>\n\n<div class="x11i5rnm xat24cr x1mh8g0r x1vvkbs xtlvy1s" style="margin: 0.5em 0px 0px\; overflow-wrap: break-word\; font-family: &quot\;Segoe UI Historic&quot\;\, &quot\;Segoe UI&quot\;\, Helvetica\, Arial\, sans-serif\; color: rgb(5\, 5\, 5)\; font-size: 15px\; background-color: rgb(255\, 255\, 255)\;"><span style="font-size:20px\;">Includes commemorative Weekend Prom glass. More details to come.</span></div>\n\n<div class="x11i5rnm xat24cr x1mh8g0r x1vvkbs xtlvy1s" style="margin: 0.5em 0px 0px\; overflow-wrap: break-word\; font-family: &quot\;Segoe UI Historic&quot\;\, &quot\;Segoe UI&quot\;\, Helvetica\, Arial\, sans-serif\; color: rgb(5\, 5\, 5)\; font-size: 15px\; background-color: rgb(255\, 255\, 255)\;"><span style="font-size:20px\;">Purchase online here:&nbsp\;<a class="x1i10hfl xjbqb8w x1ejq31n xd10rxx x1sy0etr x17r0tee x972fbf xcfux6l x1qhh985 xm0m39n x9f619 x1ypdohk xt0psk2 xe8uvvx xdj266r x11i5rnm xat24cr x1mh8g0r xexx8yu x4uap5 x18d9i69 xkhd6sd x16tdsg8 x1hl2dhg xggy1nq x1a2a7pz xt0b8zv x1fey0fg" href="https://commerce.arryved.com/location/BdLUdNbb/modality/pickup/itemDetail/BdLUdNbbjZlRGuBkGAT0/?fbclid=IwAR3ihivwWK7lMI3BbG8CgQNv4QfIK3ymEZJlh1R-G8wd_82RZRpqZrqcRgE" rel="nofollow noreferrer" role="link" style="cursor: pointer\; text-decoration-line: none\; outline: none\; list-style: none\; margin: 0px\; text-align: inherit\; border-style: none\; padding: 0px\; border-width: 0px\; box-sizing: border-box\; background-color: transparent\; display: inline\; -webkit-tap-highlight-color: transparent\; touch-action: manipulation\; font-family: inherit\;" tabindex="0" target="_blank">https://commerce.arryved.com/.../BdLUdNbbjZlRGuBkGAT0/</a>#</span></div>\n\n<div class="x11i5rnm xat24cr x1mh8g0r x1vvkbs xtlvy1s" style="margin: 0.5em 0px 0px\; overflow-wrap: break-word\; font-family: &quot\;Segoe UI Historic&quot\;\, &quot\;Segoe UI&quot\;\, Helvetica\, Arial\, sans-serif\; color: rgb(5\, 5\, 5)\; font-size: 15px\; background-color: rgb(255\, 255\, 255)\;"><span style="font-size:20px\;">This event is not the best place for the pups so please leave them at home. 21+ event. Hosted in partnership with DJ Nic of RevArt Studios</span></div>\n</div>\n</div>\n</div>\n
LOCATION:Weekend Beer Co. 1863 NW Washington Blvd.
UID:e.1818.48441
SEQUENCE:3
DTSTAMP:20260420T142532Z
URL:https://business.grantspasschamber.org/events/details/prom-weekend-beer-co-48441
END:VEVENT

END:VCALENDAR
