BEGIN:VCALENDAR
VERSION:2.0
PRODID:-//ChamberMaster//Event Calendar 2.0//EN
METHOD:PUBLISH
X-PUBLISHED-TTL:P3D
REFRESH-INTERVAL:P3D
CALSCALE:GREGORIAN
BEGIN:VEVENT
DTSTART;VALUE=DATE:20160514
DTEND;VALUE=DATE:20160516
TRANSP:TRANSPARENT
X-MICROSOFT-CDO-ALLDAYEVENT:TRUE
SUMMARY:Quilt Show ~ Rogue Valley Piecemakers
DESCRIPTION:Vendors\, sale items\, and a silent auction. Hosted by the Rogue Valley Piecemakers.
X-ALT-DESC;FMTTYPE=text/html:<strong>Vendors\, sale items\, and a silent auction. Hosted by the Rogue Valley Piecemakers.</strong>
LOCATION:Josephine County Fairgrounds
UID:e.1818.15250
SEQUENCE:3
DTSTAMP:20260426T000115Z
URL:https://business.grantspasschamber.org/events/details/quilt-show-rogue-valley-piecemakers-05-14-2016-15250
END:VEVENT

END:VCALENDAR
