BEGIN:VCALENDAR
VERSION:2.0
PRODID:-//ChamberMaster//Event Calendar 2.0//EN
METHOD:PUBLISH
X-PUBLISHED-TTL:P3D
REFRESH-INTERVAL:P3D
CALSCALE:GREGORIAN
BEGIN:VEVENT
DTSTART;VALUE=DATE:20161007
DTEND;VALUE=DATE:20161009
TRANSP:TRANSPARENT
X-MICROSOFT-CDO-ALLDAYEVENT:TRUE
SUMMARY:Quilts in the Country Annual Quilt Show
DESCRIPTION:Silent Auction of Small Quilts\, Opportunity Raffle\, Vendor and Club Member Crafts\, Door Prizes & Basket Raffle.\n\n\n\nLunch and Homemade Pies.  Many Demos Available
X-ALT-DESC;FMTTYPE=text/html:Silent Auction of Small Quilts\, Opportunity Raffle\, Vendor and Club Member Crafts\, Door Prizes &amp\; Basket Raffle.<br />\n<br />\nLunch and Homemade Pies.&nbsp\; Many Demos Available
LOCATION:Hugo School House 6050 Hugo Road\, Hugo Exit 66 Follow the signs
UID:e.1818.4949
SEQUENCE:3
DTSTAMP:20260425T163511Z
URL:https://business.grantspasschamber.org/events/details/quilts-in-the-country-annual-quilt-show-10-07-2016-4949
END:VEVENT

END:VCALENDAR
