BEGIN:VCALENDAR
VERSION:2.0
PRODID:-//ChamberMaster//Event Calendar 2.0//EN
METHOD:PUBLISH
X-PUBLISHED-TTL:P3D
REFRESH-INTERVAL:P3D
CALSCALE:GREGORIAN
BEGIN:VEVENT
DTSTART:20211001T160000Z
DTEND:20211002T220000Z
X-MICROSOFT-CDO-ALLDAYEVENT:FALSE
SUMMARY:Quilts in the Country Annual Quilt Show
DESCRIPTION:Hugo Ladies Club Schoolhouse Quilters annual Quilt show. \n\n\n\nFree Admission! There will be a Silent Auction\, Handcraft Boutique Items\, Raffle Baskets\, Vendors Lunch\, Dessert and Live music.\n\n\n\nThe Opportunity Quilt drawing will be on\n\nOctober 22nd\, 2021
X-ALT-DESC;FMTTYPE=text/html:<p>&nbsp\;</p>\n\n<p style="text-align: center\;"><span style="font-size:20px\;">Hugo Ladies Club Schoolhouse Quilters annual Quilt show. </span></p>\n\n<p style="text-align: center\;"><br />\n<span style="font-size:20px\;">Free Admission! There will be a&nbsp\;Silent Auction\, Handcraft Boutique Items\, Raffle Baskets\, Vendors Lunch\, Dessert and&nbsp\;Live music.</span><br />\n<br />\n<span style="font-size:20px\;">The Opportunity Quilt drawing will be on<br />\nOctober 22nd\, 2021</span></p>\n
LOCATION:6050 Hugo Road Hugo\, Oregon 1-5 Hugo Exit 66
UID:e.1818.35418
SEQUENCE:3
DTSTAMP:20260421T075003Z
URL:https://business.grantspasschamber.org/events/details/quilts-in-the-country-annual-quilt-show-35418
END:VEVENT

END:VCALENDAR
