BEGIN:VCALENDAR
VERSION:2.0
PRODID:-//ChamberMaster//Event Calendar 2.0//EN
METHOD:PUBLISH
X-PUBLISHED-TTL:P3D
REFRESH-INTERVAL:P3D
CALSCALE:GREGORIAN
BEGIN:VEVENT
DTSTART:20201002T160000Z
DTEND:20201003T220000Z
X-MICROSOFT-CDO-ALLDAYEVENT:FALSE
SUMMARY:Quilts in the Country-CANCELED
DESCRIPTION:***CANCELED*** There will still be a quilt raffle on Oct 2\, with tickets available at Plaza Sew and Vac\, 311 SE 6th St.\n\nJoin us on October 2nd-3rd from 9:00 am-3:00 pm There will be Vendors\, Handcrafted Boutique Items\, Door Prizes\, Basket Raffles\, Silent Auction\, lunch available and home made desserts\, Door Prizes. Opportunity Quilt Raffle tickets: $1.00 each or 6 for $5.00.Our October 2020 Quilt\, "Star of Hugo" is a paper pieced Mariners Star Pattern (98" x 98"). Sales of these tickets will be donated to other non-profits within the community.\n\n\n\nThe 2020 Opportunity Quilt Tickets are on sale now and you can find the Ladies Club Schoolhouse Quilters a the summer Saturdays Market.
X-ALT-DESC;FMTTYPE=text/html:<span style="font-size:16px\;"><span style="color:#FF0000\;"><strong>***CANCELED*** There will still be a quilt raffle on Oct 2\, with tickets available at Plaza Sew and Vac\, 311 SE 6th St.</strong></span></span><br />\n<span style="font-size:16px\;">Join us on October 2nd-3rd from 9:00 am-3:00 pm There will be Vendors\, Handcrafted Boutique Items\, Door Prizes\, Basket Raffles\, Silent Auction\, lunch available and home made desserts\, Door Prizes. Opportunity Quilt Raffle tickets: $1.00 each or 6 for $5.00.Our October 2020 Quilt\, &quot\;Star of Hugo&quot\; is a paper pieced Mariners Star Pattern (98&quot\; x 98&quot\;). Sales of these tickets will be donated to other non-profits within the community.<br />\n<br />\nThe 2020 Opportunity Quilt Tickets are on sale now and you can find the Ladies Club Schoolhouse Quilters a the summer Saturdays Market.</span>
LOCATION:Hugo Ladies Club Schoolhouse 6050 Hugo Road Hugo\, Oregon
UID:e.1818.33061
SEQUENCE:3
DTSTAMP:20260424T182128Z
URL:https://business.grantspasschamber.org/events/details/quilts-in-the-country-canceled-33061
END:VEVENT

END:VCALENDAR
